BEGIN:VCALENDAR
VERSION:2.0
PRODID:-//ChamberMaster//Event Calendar 2.0//EN
METHOD:PUBLISH
X-PUBLISHED-TTL:P3D
REFRESH-INTERVAL:P3D
CALSCALE:GREGORIAN
BEGIN:VEVENT
DTSTART:20201008T213000Z
DTEND:20201008T223000Z
X-MICROSOFT-CDO-ALLDAYEVENT:FALSE
SUMMARY:2020 - Intentional Collisions - Online Networking Event/Awards
DESCRIPTION:Join us online and we will intentionally collide you during a fun networking and break out session and following the networking\, we will recognize 3 outstanding businesses:  a Woman-owned\, an African-American Owned\, and a Latin-owned business\, who were nominated by their peers.\n\nPlease log on by 5:25pm.  This event will start promptly at 5:30.  \n\n\n\nIntentional Collisions is a networking event intended to bring people together from different walks of life. In this event\, our AABC and LABC are partnering to offer a networking event during MED Week. (Minority Enterprise & Development Week).\nChamber members AND nonmembers are welcome to attend the event!\n\nJoin Zoom Meeting:  https://us02web.zoom.us/j/86254876035?pwd=RWVHb2RsOU1oOFFUZW5ZWk5jcEQvdz09\n\nMeeting ID: 862 5487 6035\n\nPasscode: 259607
X-ALT-DESC;FMTTYPE=text/html:<span style="font-size:14px\;"><span style="color:black\;"><span style="font-family:arial\,sans-serif\;"><span style="font-size:16px\;">Join us online and we will <em>intentionally collide </em>you during a fun networking and break out session and following the networking\, we will recognize 3 outstanding businesses:&nbsp\; a Woman-owned\, an African-American Owned\, and a Latin-owned business\, who were nominated by their peers.</span></span></span></span><br>\n<strong>Please log on by 5:25pm.&nbsp\; This event will start promptly at 5:30.&nbsp\;&nbsp\;</strong><br>\n<br>\n<span style="font-size:16px\;"><span style="font-family: arial\, sans-serif\; background-color: rgb(255\, 255\, 255)\;">Intentional Collisions is a networking event intended to bring people together from different walks of life. In this event\, our AABC and LABC are partnering to offer a networking event during MED Week. (Minority Enterprise &amp\; Development Week).</span></span>\n<p style="box-sizing: border-box\; margin-top: 0px\; margin-bottom: 1rem\; outline: 0px\; font-family: &quot\;Fira Sans&quot\;\, sans-serif\; font-size: 16px\;"><span style="box-sizing: border-box\; outline: 0px\; color: rgb(51\, 51\, 51)\; font-size: 16px\; background-color: rgb(255\, 255\, 255)\; font-family: arial\, sans-serif\;"><span style="box-sizing: border-box\; outline: 0px\; background-image: initial\; background-position: initial\; background-size: initial\; background-repeat: initial\; background-attachment: initial\; background-origin: initial\; background-clip: initial\;"><span style="box-sizing: border-box\; outline: 0px\; color: black\;"><span style="box-sizing: border-box\; outline: 0px\;"><span style="box-sizing: border-box\; outline: 0px\; font-size: 14px\;">Chamber members AND nonmembers&nbsp\;are welcome to attend the event!</span></span></span></span></span><br style="box-sizing: border-box\; color: rgb(51\, 51\, 51)\; font-family: &quot\;Fira Sans&quot\;\, sans-serif\; font-size: 16px\; background-color: rgb(255\, 255\, 255)\;">\nJoin Zoom Meeting:&nbsp\;&nbsp\;<a href="https://us02web.zoom.us/j/86254876035?pwd=RWVHb2RsOU1oOFFUZW5ZWk5jcEQvdz09">https://us02web.zoom.us/j/86254876035?pwd=RWVHb2RsOU1oOFFUZW5ZWk5jcEQvdz09</a><br>\nMeeting ID: 862 5487 6035<br>\nPasscode: 259607</p>\n
LOCATION:
UID:e.2869.962
SEQUENCE:3
DTSTAMP:20260423T021547Z
URL:https://www.wilmingtonchamber.org/events/details/2020-intentional-collisions-online-networking-event-awards-962
END:VEVENT

END:VCALENDAR
