BEGIN:VCALENDAR
VERSION:2.0
PRODID:-//ChamberMaster//Event Calendar 2.0//EN
METHOD:PUBLISH
X-PUBLISHED-TTL:P3D
REFRESH-INTERVAL:P3D
CALSCALE:GREGORIAN
BEGIN:VEVENT
DTSTART;VALUE=DATE:20201005
DTEND;VALUE=DATE:20201011
TRANSP:TRANSPARENT
X-MICROSOFT-CDO-ALLDAYEVENT:TRUE
SUMMARY:2020 - MED Week
DESCRIPTION:6th Annual Cape Fear Region Minority Enterprise Development (MED) Week\n\nMED Week recognizes the achievements of local minority entrepreneurs\, provides opportunities for networking\, and presents workshops to help grow and strengthen businesses.\n\nEvents provide attendees the opportunity to:\n\n\n	Connect with business vendors\n	Meet leaders from the regional business community\n	Learn about government contracting and business opportunities\n	Grow your professional network\n	Receive information and resources to develop your business \n\n\n https://uncw.edu/diversity/medweek/2020schedule.html
X-ALT-DESC;FMTTYPE=text/html:<h1 style="box-sizing: inherit\; margin: 0.2rem 0px 0.5rem\; padding: 0px\; color: rgb(0\, 112\, 115)\; font-family: Arial\, Helvetica\, sans-serif\; font-weight: normal\; line-height: 1.4\; text-rendering: optimizelegibility\; font-size: 1.71429rem\; text-align: center\;"><span style="font-size:16px\;"><span style="color:#000000\;"><strong><span style="font-family:arial\;">6th Annual Cape Fear Region Minority Enterprise Development (MED) Week</span></strong></span></span></h1>\n\n<p style="box-sizing: inherit\; margin: 0px 0px 1.42857rem\; padding: 0px\; font-family: Arial\, Helvetica\, sans-serif\; font-size: 14px\; line-height: 1.4\; text-rendering: optimizelegibility\; color: rgb(26\, 26\, 26)\;"><span style="font-size:16px\;"><span style="font-family:arial\;">MED Week recognizes the achievements of local minority entrepreneurs\, provides opportunities for networking\, and presents workshops to help grow and strengthen businesses.</span></span></p>\n\n<p style="box-sizing: inherit\; margin: 0px 0px 1.42857rem\; padding: 0px\; font-family: Arial\, Helvetica\, sans-serif\; font-size: 14px\; line-height: 1.4\; text-rendering: optimizelegibility\; color: rgb(26\, 26\, 26)\;"><span style="font-size:16px\;"><span style="font-family:arial\;">Events provide attendees the opportunity to:</span></span></p>\n\n<ul>\n	<li style="box-sizing: inherit\; margin: 0px\; padding: 0px\;"><span style="font-size:16px\;"><span style="font-family:arial\;">Connect with business vendors</span></span></li>\n	<li style="box-sizing: inherit\; margin: 0px\; padding: 0px\;"><span style="font-size:16px\;"><span style="font-family:arial\;">Meet leaders from the regional business community</span></span></li>\n	<li style="box-sizing: inherit\; margin: 0px\; padding: 0px\;"><span style="font-size:16px\;"><span style="font-family:arial\;">Learn about government contracting and business opportunities</span></span></li>\n	<li style="box-sizing: inherit\; margin: 0px\; padding: 0px\;"><span style="font-size:16px\;"><span style="font-family:arial\;">Grow your professional network</span></span></li>\n	<li style="box-sizing: inherit\; margin: 0px\; padding: 0px\;"><span style="font-size:16px\;"><span style="font-family:arial\;">Receive information and resources to develop your business&nbsp\;</span></span></li>\n</ul>\n\n<div style="box-sizing: inherit\; margin: 0px\; padding: 0px\;"><span style="font-size:16px\;"><span style="font-family:arial\;">&#8203\;</span><a href="https://uncw.edu/diversity/medweek/2020schedule.html">https://uncw.edu/diversity/medweek/2020schedule.html</a></span></div>\n
LOCATION:
UID:e.2869.967
SEQUENCE:3
DTSTAMP:20260423T035037Z
URL:https://www.wilmingtonchamber.org/events/details/2020-med-week-967
END:VEVENT

END:VCALENDAR
