BEGIN:VCALENDAR
VERSION:2.0
PRODID:-//ChamberMaster//Event Calendar 2.0//EN
METHOD:PUBLISH
X-PUBLISHED-TTL:P3D
REFRESH-INTERVAL:P3D
CALSCALE:GREGORIAN
BEGIN:VEVENT
DTSTART:20210514T220000Z
DTEND:20210514T230000Z
X-MICROSOFT-CDO-ALLDAYEVENT:FALSE
SUMMARY:2021 - Latin American Business Council Anniversary Celebration
DESCRIPTION:The vision of the Latin American Business Council is to promote accessibility for all the established Latino Businesses in our region\, of all the available economic and public policy opportunities that could foster\, improve and boost our community. \n\n \nMission: To strengthen the community of Latino businesses and professionals of the Cape Fear region.\n\n \n\n \n\nVision: To be a BRIDGE for the INTEGRATION and CONSOLIDATION of the community of Latino businesses and professionals of the Cape Fear region.\n\n\n\n\n\n \nLa visi n del Latin American Business Council es la de promover el acceso de los Negocios Latinos ya establecidos y consolidados de la regi n\, a todas las oportunidades en el  mbito econ mico y de pol ticas p blicas que puedan fomentar\, mejorar y promover a nuestra comunidad\, potenciando el crecimiento de la clase media latina de la regi n de Cape Fear. \n\nMisi n: Fortalecer a la comunidad de empresarios y profesionales latinos en la regi n de Cape Fear.\n\n \n\n \n\nVisi n: Dar representaci n para consolidar a la comunidad latina en la regi n de Cape Fear.
X-ALT-DESC;FMTTYPE=text/html:<span style="color: rgb(0\, 0\, 0)\; font-family: arial\, helvetica\, sans-serif\; font-size: 14px\;">The vision of the Latin American Business Council is to promote accessibility for all the established Latino Businesses in our region\, of all the available economic and public policy opportunities that could foster\, improve and boost our community.&nbsp\;</span><br />\n&nbsp\;\n<p class="p1" style="box-sizing: border-box\; margin: 0px\; font-variant-numeric: normal\; font-variant-east-asian: normal\; font-stretch: normal\; font-size: 11px\; line-height: normal\; font-family: Helvetica\; color: rgb(0\, 0\, 0)\;"><span style="box-sizing: border-box\; font-family: arial\, helvetica\, sans-serif\;"><span style="box-sizing: border-box\; font-size: 14px\;"><span style="box-sizing: border-box\; font-weight: bolder\;"><u style="box-sizing: border-box\;">Mission:</u></span>&nbsp\;To strengthen the community of Latino businesses and professionals of the Cape Fear region.</span></span></p>\n\n<p class="p1" style="box-sizing: border-box\; margin: 0px\; font-variant-numeric: normal\; font-variant-east-asian: normal\; font-stretch: normal\; font-size: 11px\; line-height: normal\; font-family: Helvetica\; color: rgb(0\, 0\, 0)\;">&nbsp\;</p>\n\n<p class="p1" style="box-sizing: border-box\; margin: 0px\; font-variant-numeric: normal\; font-variant-east-asian: normal\; font-stretch: normal\; font-size: 11px\; line-height: normal\; font-family: Helvetica\; color: rgb(0\, 0\, 0)\;">&nbsp\;</p>\n\n<p class="p1" style="box-sizing: border-box\; margin: 0px\; font-variant-numeric: normal\; font-variant-east-asian: normal\; font-stretch: normal\; font-size: 11px\; line-height: normal\; font-family: Helvetica\; color: rgb(0\, 0\, 0)\;"><span style="box-sizing: border-box\; font-family: arial\, helvetica\, sans-serif\;"><span style="box-sizing: border-box\; font-size: 14px\;"><u style="box-sizing: border-box\;"><span style="box-sizing: border-box\; font-weight: bolder\;">Vision:</span></u>&nbsp\;To be a BRIDGE for the INTEGRATION and CONSOLIDATION of the community of Latino businesses and professionals of the Cape Fear region.</span></span><br />\n<br />\n<br />\n&nbsp\;</p>\n<span style="color: rgb(0\, 0\, 0)\; font-family: arial\, helvetica\, sans-serif\; font-size: 14px\;">La visi&oacute\;n del Latin American Business Council es la de promover el acceso de los Negocios Latinos ya establecidos y consolidados de la regi&oacute\;n\, a todas las oportunidades en el &aacute\;mbito econ&oacute\;mico y de pol&iacute\;ticas p&uacute\;blicas que puedan fomentar\, mejorar y promover a nuestra comunidad\, potenciando el crecimiento de la clase media latina de la regi&oacute\;n de Cape Fear.&nbsp\;</span>\n\n<p class="p1" style="box-sizing: border-box\; margin: 0px\; font-variant-numeric: normal\; font-variant-east-asian: normal\; font-stretch: normal\; font-size: 11px\; line-height: normal\; font-family: Helvetica\; color: rgb(0\, 0\, 0)\;"><span style="box-sizing: border-box\; font-family: arial\, helvetica\, sans-serif\;"><span style="box-sizing: border-box\; font-size: 14px\;"><u style="box-sizing: border-box\;"><span style="box-sizing: border-box\; font-weight: bolder\;">Misi&oacute\;n:</span></u>&nbsp\;Fortalecer a la comunidad de empresarios y profesionales latinos en la regi&oacute\;n de Cape Fear.</span></span></p>\n\n<p class="p1" style="box-sizing: border-box\; margin: 0px\; font-variant-numeric: normal\; font-variant-east-asian: normal\; font-stretch: normal\; font-size: 11px\; line-height: normal\; font-family: Helvetica\; color: rgb(0\, 0\, 0)\;">&nbsp\;</p>\n\n<p class="p1" style="box-sizing: border-box\; margin: 0px\; font-variant-numeric: normal\; font-variant-east-asian: normal\; font-stretch: normal\; font-size: 11px\; line-height: normal\; font-family: Helvetica\; color: rgb(0\, 0\, 0)\;">&nbsp\;</p>\n\n<p class="p1" style="box-sizing: border-box\; margin: 0px\; font-variant-numeric: normal\; font-variant-east-asian: normal\; font-stretch: normal\; font-size: 11px\; line-height: normal\; font-family: Helvetica\; color: rgb(0\, 0\, 0)\;"><span style="box-sizing: border-box\; font-family: arial\, helvetica\, sans-serif\;"><span style="box-sizing: border-box\; font-size: 14px\;"><u style="box-sizing: border-box\;"><span style="box-sizing: border-box\; font-weight: bolder\;">Visi&oacute\;n:</span></u>&nbsp\;Dar representaci&oacute\;n para consolidar a la comunidad latina en la regi&oacute\;n de Cape Fear.</span></span></p>\n
LOCATION:TBD
UID:e.2869.1594
SEQUENCE:3
DTSTAMP:20260422T112106Z
URL:https://www.wilmingtonchamber.org/events/details/2021-latin-american-business-council-anniversary-celebration-1594
END:VEVENT

END:VCALENDAR
