BEGIN:VCALENDAR
VERSION:2.0
PRODID:-//ChamberMaster//Event Calendar 2.0//EN
METHOD:PUBLISH
X-PUBLISHED-TTL:P3D
REFRESH-INTERVAL:P3D
CALSCALE:GREGORIAN
BEGIN:VEVENT
DTSTART:20210422T220000Z
DTEND:20210422T230000Z
X-MICROSOFT-CDO-ALLDAYEVENT:FALSE
SUMMARY:2021 - Latin American Business Council Meeting
DESCRIPTION:Join the Latin American Business Council at their next meeting on Thursday\, April 22 at 6:00 pm to learn more about the Legal Considerations of Starting a New Business. Our guest speaker for this event is Esteban Guzm n. Esq. Lic.\n\n \n\nMr. Guzm n will be discussing risk assessment\, options of organization (sole proprietorship\, partnership\, LLC\, S corporations\, and C corporations)\, choosing and protecting your business name\, licensing\, permitting\, intellectual property\, and contracts.\n\n \n\nThis conversation will take place on Zoom and will be shared on the Wilmington Chamber of Commerce Facebook page.\n\n\n\nThere is no cost to participate. This event is open to chamber members and nonmembers.
X-ALT-DESC;FMTTYPE=text/html:<br />\n<br />\n<span style="color:#050505\;"><span style="font-family:arial\,sans-serif\;"><span style="font-size:11.5pt\;">Join the Latin American Business Council at their next meeting on Thursday\, April 22 at 6:00 pm to learn more about the Legal Considerations of Starting a New Business. Our guest speaker for this event is Esteban Guzm&aacute\;n. Esq. Lic.</span></span></span><br />\n&nbsp\;<br />\n<span style="color:#050505\;"><span style="font-family:arial\,sans-serif\;"><span style="font-size:11.5pt\;">Mr. Guzm&aacute\;n will be discussing risk assessment\, options of organization (sole proprietorship\, partnership\, LLC\, S corporations\, and C corporations)\, choosing and protecting your business name\, licensing\, permitting\, intellectual property\, and contracts.</span></span></span><br />\n&nbsp\;<br />\n<span style="color:#050505\;"><span style="font-family:arial\,sans-serif\;"><span style="font-size:11.5pt\;">This conversation will take place on Zoom and will be shared on the Wilmington Chamber of Commerce Facebook page.</span></span></span><br />\n<br />\n<span style="color:#050505\;"><span style="font-family:arial\,sans-serif\;"><span style="font-size:11.5pt\;">There is no cost to participate. This event is open to chamber members and nonmembers.</span></span></span><br />\n&nbsp\;<br />\n&nbsp\;<br />\n&nbsp\;
LOCATION:Zoom
UID:e.2869.1593
SEQUENCE:3
DTSTAMP:20260422T125403Z
URL:https://www.wilmingtonchamber.org/events/details/2021-latin-american-business-council-meeting-04-22-2021-1593
END:VEVENT

END:VCALENDAR
