BEGIN:VCALENDAR
VERSION:2.0
PRODID:-//ChamberMaster//Event Calendar 2.0//EN
METHOD:PUBLISH
X-PUBLISHED-TTL:P3D
REFRESH-INTERVAL:P3D
CALSCALE:GREGORIAN
BEGIN:VEVENT
DTSTART:20221109T223000Z
DTEND:20221110T003000Z
X-MICROSOFT-CDO-ALLDAYEVENT:FALSE
SUMMARY:2022 - Intentional Collisions Sponsored by NourishNC
DESCRIPTION:Intentional Collisions is a program of the Wilmington Chamber of Commerce in partnership with our minority business councils with a goal of bringing people together who may not interact in everyday life. We will intentionally collide you during a fun evening of connecting and building relationships.\n\n\n\nThis month's event is sponsored and hosted by NourishNC\, a local non-profit that provides hungry children with healthy food empowering them to succeed in the classroom and in our community.\n\n\n\nFood and beverage will be provided so advanced registration is required.
X-ALT-DESC;FMTTYPE=text/html:<br />\n<span style="font-size:16px\;"><span style="font-family:arial\;"><span style="color:#000000\;">Intentional Collisions is a program of the Wilmington Chamber of Commerce in partnership with our minority business councils with a goal of bringing people together who may not interact in everyday life. We will intentionally collide you during a fun evening of connecting and building relationships.<br />\n<br />\nThis month&#39\;s event is sponsored and hosted by NourishNC\, a local non-profit that provides hungry children with healthy food empowering them to succeed in the classroom and in our community.<br />\n<br />\nFood and beverage will be provided so advanced registration is required.</span></span></span>
LOCATION:NourishNC
UID:e.2869.1767
SEQUENCE:3
DTSTAMP:20260421T070838Z
URL:https://www.wilmingtonchamber.org/events/details/2022-intentional-collisions-sponsored-by-nourishnc-1767
END:VEVENT

END:VCALENDAR
