BEGIN:VCALENDAR
VERSION:2.0
PRODID:-//ChamberMaster//Event Calendar 2.0//EN
METHOD:PUBLISH
X-PUBLISHED-TTL:P3D
REFRESH-INTERVAL:P3D
CALSCALE:GREGORIAN
BEGIN:VEVENT
DTSTART:20220914T210000Z
DTEND:20220914T230000Z
X-MICROSOFT-CDO-ALLDAYEVENT:FALSE
SUMMARY:2022 - Latin American Business Council Meeting - Hispanic Heritage Kickoff / Reunión del Consejo Empresarial Latinoamericano – Celebremos el Inicio del Mes de la Herencia Hispana
DESCRIPTION:Join us to celebrate the kick-off of National Hispanic Heritage Month!\n\n\n\nThe idea for Hispanic Heritage Month\, celebrated throughout the latter half of September and the first half of October\, began as a way to promote the history\, culture\, and contributions of Hispanic-Americans   specifically\, those whose ancestors came from Spain\, Mexico\, the Caribbean\, and Central and South America. Communities mark the achievements of Hispanic and Latino Americans with festivals and educational activities. The purpose of this LABC event is to educate our attendees about all the celebratory and educational events that will take place in our community to celebrate Hispanic Heritage Month. Thanks to the NHC Office of Diversity and Equity and Board of Commissioners\, Vice-Chair Deb Hays will be reading the Proclamation for Hispanic Heritage Month.\n\n\n\nEat\, drink and connect with other chamber members and community members in Wilmington at Flying Machine Brewing Company on Randall Parkway. Food will be available for purchase with a food truck on site and all chamber members will receive one free drink ticket. A cash bar will also be available for our guests. \n\n \nThanks to our DEI initiative sponsors Novant Health NHRMC and First National Bank of Pennsylvania and our LABC sponsors\, Customers Bank\, La Pantera 105.5 FM\, Mattress Furniture Liquidators\, La Raza 94.1 FM\, and The Forte Institute.\n\n\n\nAll chamber members and nonmembers are welcome to join this meeting.\n\n________________________________________________________________________\n\n\n\n  nase a nosotros para celebrar el inicio del Mes Nacional de la Herencia Hispana!\n\n\n\nLa idea del Mes de la Herencia Hispana\, que se celebra a lo largo de la segunda mitad de septiembre y la primera quincena de octubre\, comenz  como una forma de promover la historia\, la cultura y las contribuciones de los hispanoamericanos\, espec ficamente\, aquellos cuyos antepasados vinieron de Espa a\, M xico\, el Caribe\, Am rica Central y Am rica del Sur. Las comunidades marcan los logros de los hispanos y latinoamericanos con festivales y actividades educativas. El prop sito de este evento de LABC es educar a nuestros asistentes sobre todos los eventos de celebraci n y educativos que se llevar n a cabo en nuestra comunidad para celebrar el Mes de la Herencia Hispana. Gracias a la Oficina de Diversidad y Equidad de NHC y a la Junta de Comisionados\, la vicepresidenta Deb Hays leer  la Proclamaci n para el Mes de la Herencia Hispana. Comparta y con ctese con otros miembros de la c mara y miembros de la comunidad en Wilmington en Flying Machine Brewing Company en Randall Parkway. La comida estar  disponible para su compra con un cami n de comida en el lugar y todos los miembros de la c mara recibir n un boleto de bebida gratis. Un bar al contado tambi n estar  disponible para nuestros invitados.\n\n\n\nGracias a nuestros patrocinadores de la iniciativa DEI Novant Health NHRMC y First National Bank of Pennsylvania y nuestros patrocinadores de LABC\, Customers Bank\, La Pantera 105.5 FM\, Mattress Furniture Liquidators\, La Raza 94.1 FM y The Forte Institute.Todos los miembros y no miembros de la c mara son bienvenidos a unirse a esta reuni n.
X-ALT-DESC;FMTTYPE=text/html:<div><br />\n<span style="font-size:16px\;"><span style="font-family:arial\;"><em><strong>Join us</strong></em>&nbsp\;to celebrate the kick-off of National Hispanic Heritage Month!<br />\n<br />\nThe idea for Hispanic Heritage Month\, celebrated throughout the latter half of September and the first half of October\, began as a way to promote the history\, culture\, and contributions of Hispanic-Americans &mdash\; specifically\, those whose ancestors came from Spain\, Mexico\, the Caribbean\, and Central and South America. Communities mark the achievements of Hispanic and Latino Americans with festivals and educational activities. The purpose of this LABC event is to educate our attendees about all the celebratory and educational&nbsp\;events that will take place in our community to celebrate Hispanic Heritage Month. Thanks to the </span></span><span style="font-family: arial\; font-size: 16px\;">NHC Office of Diversity and Equity and&nbsp\;</span><span style="font-size:16px\;"><span style="font-family:arial\;">Board of Commissioners\, Vice-Chair Deb Hays will be reading the&nbsp\;Proclamation for Hispanic Heritage Month.<br />\n<br />\nEat\, drink and connect with other chamber members and community members in Wilmington at Flying Machine Brewing Company on Randall Parkway.&nbsp\;Food will be available for purchase&nbsp\;with a food truck on site and all&nbsp\;chamber members&nbsp\;will receive one free drink ticket.&nbsp\;A cash bar will also be available for our guests.&nbsp\;</span></span></div>\n\n<div>&nbsp\;</div>\n<span style="font-family: arial\; font-size: 16px\;">Thanks to our DEI initiative sponsors Novant Health NHRMC and First National Bank of Pennsylvania and our LABC sponsors\, Customers Bank\, La Pantera 105.5 FM\, Mattress Furniture Liquidators\, La Raza 94.1 FM\, and The Forte Institute.</span><br style="box-sizing: border-box\; font-family: arial\; font-size: 16px\;" />\n<br style="box-sizing: border-box\; font-family: arial\; font-size: 16px\;" />\n<span style="font-family: arial\; font-size: 16px\;">All chamber members and nonmembers are welcome to join this meeting.</span>\n\n<p>________________________________________________________________________<br />\n<br />\n<span style="font-size:16px\;"><span style="font-family:arial\;"><em><strong>&iexcl\;&Uacute\;nase a nosotros para celebrar el inicio del Mes Nacional de la Herencia Hispana!</strong></em><br />\n<br />\nLa idea del Mes de la Herencia Hispana\, que se celebra a lo largo de la segunda mitad de septiembre y la primera quincena de octubre\, comenz&oacute\; como una forma de promover la historia\, la cultura y las contribuciones de los hispanoamericanos\, espec&iacute\;ficamente\, aquellos cuyos antepasados vinieron de Espa&ntilde\;a\, M&eacute\;xico\, el Caribe\, Am&eacute\;rica Central y Am&eacute\;rica del Sur. Las comunidades marcan los logros de los hispanos y latinoamericanos con festivales y actividades educativas. El prop&oacute\;sito de este evento de LABC es educar a nuestros asistentes sobre todos los eventos de celebraci&oacute\;n y educativos que se llevar&aacute\;n a cabo en nuestra comunidad para celebrar el Mes de la Herencia Hispana. Gracias a la Oficina de Diversidad y Equidad de NHC y a la Junta de Comisionados\, la vicepresidenta Deb Hays leer&aacute\; la Proclamaci&oacute\;n para el Mes de la Herencia Hispana. Comparta y con&eacute\;ctese con otros miembros de la c&aacute\;mara y miembros de la comunidad en Wilmington en Flying Machine Brewing Company en Randall Parkway. La comida estar&aacute\; disponible para su compra con un cami&oacute\;n de comida en el lugar y todos los miembros de la c&aacute\;mara recibir&aacute\;n un boleto de bebida gratis. Un bar al contado tambi&eacute\;n estar&aacute\; disponible para nuestros invitados.<br />\n<br />\nGracias a nuestros patrocinadores de la iniciativa DEI Novant Health NHRMC y First National Bank of Pennsylvania y nuestros patrocinadores de LABC\, Customers Bank\, La Pantera 105.5 FM\, Mattress Furniture Liquidators\, La Raza 94.1 FM y The Forte Institute.Todos los miembros y no miembros de la c&aacute\;mara son bienvenidos a unirse a&nbsp\;esta reuni&oacute\;n.</span></span></p>\n
LOCATION:Flying Machine Brewery
UID:e.2869.1756
SEQUENCE:3
DTSTAMP:20260421T120538Z
URL:https://www.wilmingtonchamber.org/events/details/2022-latin-american-business-council-meeting-hispanic-heritage-kickoff-reuni&#243;n-del-consejo-empresarial-latinoamericano-celebremos-el-inicio-del-mes-de-la-herencia-hispana-1756
END:VEVENT

END:VCALENDAR
