BEGIN:VCALENDAR
VERSION:2.0
PRODID:-//ChamberMaster//Event Calendar 2.0//EN
METHOD:PUBLISH
X-PUBLISHED-TTL:P3D
REFRESH-INTERVAL:P3D
CALSCALE:GREGORIAN
BEGIN:VEVENT
DTSTART:20230419T153000Z
DTEND:20230419T170000Z
X-MICROSOFT-CDO-ALLDAYEVENT:FALSE
SUMMARY:2023 - African American Business Council Meeting
DESCRIPTION:The vision of the African American Business Council is to strategically position black businesses for inclusion and success through opportunity\, education\, exposure\, entrepreneurship\, economic development\, and public policy advocacy. We are committed to leading\, educating\, and advocating to grow African American-owned businesses and to create and grow a thriving African American middle class in Wilmington.\n\nThe Wilmington Chamber's African American Business Council theme in 2023 is Moving Your Business Forward with Education towards Growth.\n\n \n\nOur co-chairs have outlined the following schedule of meetings and topics for 2023 below. \n\n \n\n\n	January 18: Goal Setting\n	February 15: Tax Season Prep\n	March 30: Intentional Collisions\n	April 19: Marketing and Advertising\n	May 17: Prioritizing and Professionalism\n	June TBD: Intentional Collisions\n	July TBD: Goal Setting Check In\n	August 16: Risk Assessment\n	September 20: 5 Cs of Credit\n	October 3: Intentional Collisions\n	November 15: Holiday Bazaar\n	December TBD: Mental Health & Wellness \n\n\n \n\n11:30am-12:00pm - Bring your own lunch\; networking and connecting\n\n12:00-1:00pm - Introductions\, Guest Speaker\, Chamber Announcements\n\n\n\nAPRIL\n\nLJ Design Studio will provide business owners with tools on how to build a brand that connects through branded design and social media branding. LJ Design Studio will give tips on brand equity and the essence of a good brand strategy. We hope that you will leave confidently knowing where to begin in establishing or reestablishing your brand identity and ready to leverage your brand to its fullest potential.\n\n\n\nAll Chamber members AND non-members are welcome to attend the meeting. \n\n\n\nThe meeting this month will be held at Channel powered by Live Oak Bank.
X-ALT-DESC;FMTTYPE=text/html:<p style="box-sizing: border-box\; margin-top: 0px\; margin-bottom: 1rem\; font-family: &quot\;Fira Sans&quot\;\, sans-serif\; font-size: 16px\;"><span style="box-sizing: border-box\; color: rgb(0\, 0\, 0)\;"><span style="box-sizing: border-box\;"><span style="box-sizing: border-box\; font-family: arial\, helvetica\, sans-serif\;">The vision of the African American Business Council is to strategically position black businesses for inclusion and success through opportunity\, education\, exposure\, entrepreneurship\, economic development\, and public policy advocacy.&nbsp\;<span style="box-sizing: border-box\; margin: 0px\; padding: 0px\; border: 0px\; font-variant-numeric: inherit\; font-variant-east-asian: inherit\; font-stretch: inherit\; font-size: 12pt\; line-height: inherit\; font-family: Arial\, sans-serif\; vertical-align: baseline\;">We are&nbsp\;</span></span></span><span style="box-sizing: border-box\;"><span style="box-sizing: border-box\; font-family: arial\, helvetica\, sans-serif\;">committed to leading\, educating\, and advocating to grow African American-owned businesses and to create and grow a thriving African American middle class in Wilmington.</span></span></span></p>\n\n<p style="box-sizing: border-box\; margin-top: 0pt\; margin-bottom: 0pt\; font-family: &quot\;Fira Sans&quot\;\, sans-serif\; font-size: 16px\; background: transparent\; color: rgb(14\, 16\, 26)\;"><span style="box-sizing: border-box\; font-family: arial\;">The Wilmington Chamber&rsquo\;s African American Business Council theme in 2023 is Moving Your Business Forward with Education towards Growth.</span></p>\n\n<p style="box-sizing: border-box\; margin-top: 0pt\; margin-bottom: 0pt\; font-family: &quot\;Fira Sans&quot\;\, sans-serif\; font-size: 16px\; background: transparent\; color: rgb(14\, 16\, 26)\;">&nbsp\;</p>\n\n<p style="box-sizing: border-box\; margin-top: 0pt\; margin-bottom: 0pt\; font-family: &quot\;Fira Sans&quot\;\, sans-serif\; font-size: 16px\; background: transparent\; color: rgb(14\, 16\, 26)\;"><span style="box-sizing: border-box\; font-family: arial\;">Our co-chairs have outlined the following schedule of meetings and topics for 2023 below.&nbsp\;</span></p>\n\n<p style="box-sizing: border-box\; margin-top: 0pt\; margin-bottom: 0pt\; font-family: &quot\;Fira Sans&quot\;\, sans-serif\; font-size: 16px\; background: transparent\; color: rgb(14\, 16\, 26)\;">&nbsp\;</p>\n\n<ul style="box-sizing: border-box\; margin-top: 0pt\; margin-bottom: 0pt\; font-family: &quot\;Fira Sans&quot\;\, sans-serif\; font-size: 16px\; background: transparent\; color: rgb(14\, 16\, 26)\;">\n	<li style="box-sizing: border-box\; margin: 0pt 0px\; background: transparent\; list-style-type: disc\;"><span style="box-sizing: border-box\; font-family: arial\;">January 18: Goal Setting</span></li>\n	<li style="box-sizing: border-box\; margin: 0pt 0px\; background: transparent\; list-style-type: disc\;"><span style="box-sizing: border-box\; font-family: arial\;">February 15: Tax Season Prep</span></li>\n	<li style="box-sizing: border-box\; margin: 0pt 0px\; background: transparent\; list-style-type: disc\;"><span style="box-sizing: border-box\; font-family: arial\;">March 30: Intentional Collisions</span></li>\n	<li style="box-sizing: border-box\; margin: 0pt 0px\; background: transparent\; list-style-type: disc\;"><span style="box-sizing: border-box\; font-family: arial\;">April 19: Marketing and Advertising</span></li>\n	<li style="box-sizing: border-box\; margin: 0pt 0px\; background: transparent\; list-style-type: disc\;"><span style="box-sizing: border-box\; font-family: arial\;">May 17: Prioritizing and Professionalism</span></li>\n	<li style="box-sizing: border-box\; margin: 0pt 0px\; background: transparent\; list-style-type: disc\;"><span style="box-sizing: border-box\; font-family: arial\;">June TBD: Intentional Collisions</span></li>\n	<li style="box-sizing: border-box\; margin: 0pt 0px\; background: transparent\; list-style-type: disc\;"><span style="box-sizing: border-box\; font-family: arial\;">July TBD: Goal Setting Check In</span></li>\n	<li style="box-sizing: border-box\; margin: 0pt 0px\; background: transparent\; list-style-type: disc\;"><span style="box-sizing: border-box\; font-family: arial\;">August 16: Risk Assessment</span></li>\n	<li style="box-sizing: border-box\; margin: 0pt 0px\; background: transparent\; list-style-type: disc\;"><span style="box-sizing: border-box\; font-family: arial\;">September 20: 5 Cs of Credit</span></li>\n	<li style="box-sizing: border-box\; margin: 0pt 0px\; background: transparent\; list-style-type: disc\;"><span style="box-sizing: border-box\; font-family: arial\;">October 3: Intentional Collisions</span></li>\n	<li style="box-sizing: border-box\; margin: 0pt 0px\; background: transparent\; list-style-type: disc\;"><span style="box-sizing: border-box\; font-family: arial\;">November 15: Holiday Bazaar</span></li>\n	<li style="box-sizing: border-box\; margin: 0pt 0px\; background: transparent\; list-style-type: disc\;"><span style="box-sizing: border-box\; font-family: arial\;">December TBD: Mental Health &amp\; Wellness&nbsp\;</span></li>\n</ul>\n\n<p style="box-sizing: border-box\; margin-top: 0pt\; margin-bottom: 0pt\; font-family: &quot\;Fira Sans&quot\;\, sans-serif\; font-size: 16px\; background: transparent\; color: rgb(14\, 16\, 26)\;">&nbsp\;</p>\n\n<p style="box-sizing: border-box\; margin-top: 0pt\; margin-bottom: 0pt\; outline: 0px\; font-family: &quot\;Fira Sans&quot\;\, sans-serif\; font-size: 16px\; background: transparent\; color: rgb(14\, 16\, 26)\;"><span style="box-sizing: border-box\; font-family: arial\;">11:30am-12:00pm - Bring your own lunch\; networking and connecting</span><br style="box-sizing: border-box\; font-family: arial\;" />\n<span style="box-sizing: border-box\; font-family: arial\;">12:00-1:00pm - Introductions\, Guest Speaker\, Chamber Announcements</span></p>\n\n<p style="box-sizing: border-box\; margin-top: 0px\; margin-bottom: 1rem\; font-family: &quot\;Fira Sans&quot\;\, sans-serif\; font-size: 16px\;"><br />\n<strong>APRIL</strong><br />\n<span style="font-family:arial\;">LJ Design Studio will provide business owners with tools on how to build a brand that connects through branded design and social media branding. LJ Design Studio will give tips on brand equity and the essence of a good brand strategy. We hope that you will leave confidently knowing where to begin in establishing or reestablishing your brand identity and ready to leverage your brand to its fullest potential.</span><br />\n<br />\n<span style="box-sizing: border-box\; outline: 0px\; font-size: 16px\; orphans: 3\; widows: 3\; color: rgb(0\, 0\, 0)\;">All Chamber members <strong><em>AND</em></strong>&nbsp\;non-members are welcome to attend the meeting.&nbsp\;<br />\n<br />\n<strong>The meeting this month will be held at&nbsp\;</strong></span><strong><span style="color:#000000\;"><span style="font-size:16px\;"><span style="font-family: &quot\;Google Sans&quot\;\, Roboto\, arial\, sans-serif\;">Channel powered by Live Oak Bank.</span></span></span></strong></p>\n
LOCATION:Channel powered by Live Oak Bank
UID:e.2869.2431
SEQUENCE:3
DTSTAMP:20260420T084157Z
URL:https://www.wilmingtonchamber.org/events/details/2023-african-american-business-council-meeting-04-19-2023-2431
END:VEVENT

END:VCALENDAR
