BEGIN:VCALENDAR
VERSION:2.0
PRODID:-//ChamberMaster//Event Calendar 2.0//EN
METHOD:PUBLISH
X-PUBLISHED-TTL:P3D
REFRESH-INTERVAL:P3D
CALSCALE:GREGORIAN
BEGIN:VEVENT
DTSTART:20230419T210000Z
DTEND:20230419T223000Z
X-MICROSOFT-CDO-ALLDAYEVENT:FALSE
SUMMARY:2023 - Latin American Business Council Meeting
DESCRIPTION:The vision of the Latin American Business Council is to promote accessibility for all the established Latino Businesses in our region\, of all the available economic and public policy opportunities that could foster\, improve and boost our community. It also seeks to potentiate our growing Latino middle class in the Cape Fear Region\, as well as\, to empower future generations of Latino businesses and professionals. Our main goal is to advocate\, with a multilingual platform for our community\, EQUAL access to all the resources that will allow our economical GROWTH and SUCCESS\, just as the rest of society in this region. We want to lead the consolidation of an international coalition\, to bring exposure to our proud and growing community\, with all its strengths and cultural diversity.\n\n \n\n\nLa visi n del Latin American Business Council es la de promover el acceso de los Negocios Latinos ya establecidos y consolidados de la regi n\, a todas las oportunidades en el  mbito econ mico y de pol ticas p blicas que puedan fomentar\, mejorar y promover a nuestra comunidad\, potenciando el crecimiento de la clase media latina de la regi n de Cape Fear. Nuestro objetivo principal es abogar por el acceso IGUALITARIO a todos los recursos para el CRECIMIENTO y EXITO econ mico\, con una plataforma multilingu e para nuestra comunidad\, que le permita estar al mismo nivel que el resto de la sociedad. Queremos liderar la consolidaci n de una coalici n internacional\, para traer exposici n a nuestra orgullosa y creciente comunidad\, con toda su fortaleza y diversidad cultural.\n\n \n\n\n\nThis program will be presented in English.\n\n\n\nOpen to the public. ALL chamber members AND nonmembers are invited to attend this meeting.\n\n\n\nThe Wilmington Chamber's Latin American Business Council theme in 2023 is Moving Your Business Forward with Education towards Growth. \n\n \n\n\nThis month\, we will hear from Jennifer Galeano of FreshCo Marketing Studio about how business owners can market their business on social media\, blogs\, or videos made with their phones. She will also share how to build a marketing budget for ads\, flyers\, and partnerships. Jennifer will be sharing some stories of successful strategies we have been using for our clients. Easy ways to create content with your phone\, how to create a budget for digital ads\, new marketing trends\, and new tips to build a digital presence for your business. \n\n\n\nJennifer is the Marketing Strategist\, President\, and Founder of FreshCo Marketing Studio\, formerly known as Eureka Marketing Agency\, a bilingual (Spanish and English) marketing firm that provides services including branding\, website development\, social media marketing\, 3-D design\, graphics\, commercial videography\, and photography. Since 2014\, Jennifer has been helping organizations\, private companies\, and Latino business owners by creating brands\, concepts\, and digital presence of dozens of businesses and restaurants in multiple states including North and South Carolina\, Massachusetts\, Virginia\, West Virginia\, Ohio\, Texas and Florida. Jennifer received her Bachelor's Degree in Journalism and Social Communication in Bogota\, Colombia. Her professional experience includes 20+ years in radio\, broadcasting\, and digital marketing helping with a particular passion for multicultural small businesses.
X-ALT-DESC;FMTTYPE=text/html:<p class="p1" style="box-sizing: border-box\; margin: 0px\; font-variant-numeric: normal\; font-variant-east-asian: normal\; font-stretch: normal\; font-size: 11px\; line-height: normal\; font-family: Helvetica\; color: rgb(0\, 0\, 0)\;"><br />\n<span style="font-family:arial\;"><span style="box-sizing: border-box\;"><span style="box-sizing: border-box\; font-size: 14px\;">The vision of the Latin American Business Council is to promote accessibility for all the established Latino Businesses in our region\, of all the available economic and public policy opportunities that could foster\, improve and boost our community. It also seeks to potentiate our growing Latino middle class in the Cape Fear Region\, as well as\, to empower future generations of Latino businesses and professionals. Our main goal is to advocate\, with a multilingual platform for our community\, EQUAL access to all the resources that will allow our economical GROWTH and SUCCESS\, just as the rest of society in this region. We want to lead the consolidation of an international coalition\, to bring exposure to our proud and growing community\, with all its strengths and cultural diversity.</span></span></span><br />\n&nbsp\;</p>\n\n<div>\n<p class="p1" style="box-sizing: border-box\; margin: 0px\; font-variant-numeric: normal\; font-variant-east-asian: normal\; font-stretch: normal\; font-size: 11px\; line-height: normal\; font-family: Helvetica\; color: rgb(0\, 0\, 0)\;"><span style="font-family:arial\;"><span style="box-sizing: border-box\;"><span style="box-sizing: border-box\; font-size: 14px\;">La visi&oacute\;n del Latin American Business Council es la de promover el acceso de los Negocios Latinos ya establecidos y consolidados de la regi&oacute\;n\, a todas las oportunidades en el &aacute\;mbito econ&oacute\;mico y de pol&iacute\;ticas p&uacute\;blicas que puedan fomentar\, mejorar y promover a nuestra comunidad\, potenciando el crecimiento de la clase media latina de la regi&oacute\;n de Cape Fear. Nuestro objetivo principal es abogar por el acceso IGUALITARIO a todos los recursos para el CRECIMIENTO y EXITO econ&oacute\;mico\, con una plataforma multilingu&#776\;e para nuestra comunidad\, que le permita estar al mismo nivel que el resto de la sociedad. Queremos liderar la consolidaci&oacute\;n de una coalici&oacute\;n internacional\, para traer exposici&oacute\;n a nuestra orgullosa y creciente comunidad\, con toda su fortaleza y diversidad cultural.</span></span></span></p>\n\n<div>&nbsp\;</div>\n</div>\n\n<div style="box-sizing: border-box\; font-family: &quot\;Fira Sans&quot\;\, sans-serif\; font-size: 16px\;">\n<p class="p1" style="box-sizing: border-box\; margin: 0px\; font-variant-numeric: normal\; font-variant-east-asian: normal\; font-stretch: normal\; font-size: 11px\; line-height: normal\; font-family: Helvetica\; color: rgb(0\, 0\, 0)\;"><span style="box-sizing: border-box\; font-size: 16px\; font-family: arial\;">This program will be presented in English.</span><br style="box-sizing: border-box\; font-size: 16px\; font-family: arial\;" />\n<br style="box-sizing: border-box\; font-size: 16px\; font-family: arial\;" />\n<span style="box-sizing: border-box\; font-family: &quot\;Fira Sans&quot\;\, sans-serif\; font-size: 16px\; color: rgb(255\, 0\, 0)\;"><span style="box-sizing: border-box\; font-weight: bolder\; font-family: arial\;"><u style="box-sizing: border-box\;">Open to the public.</u></span></span><span style="box-sizing: border-box\; font-size: 16px\; font-weight: bolder\; font-family: arial\;">&nbsp\;ALL chamber members AND nonmembers&nbsp\;are invited to attend this meeting.</span><br style="box-sizing: border-box\; font-size: 16px\; font-family: arial\;" />\n<br style="box-sizing: border-box\; font-size: 16px\; font-family: arial\;" />\n<span style="font-size:16px\;"><span style="box-sizing: border-box\;">The Wilmington Chamber&#39\;s Latin American Business Council theme in 2023 is Moving Your Business Forward with Education towards Growth.&nbsp\;</span></span></p>\n\n<div style="box-sizing: border-box\;">&nbsp\;</div>\n</div>\n\n<p style="box-sizing: border-box\; margin: 0px\; padding: 0px\; color: rgb(0\, 0\, 0)\; font-family: Arial\, Verdana\, Helvetica\, sans-serif\; font-size: 14px\; white-space: pre-wrap\;"><span style="color:#000000\;"><span style="font-size:16px\;"><span style="box-sizing: border-box\;"><span style="box-sizing: border-box\;">This month\, we will hear from <strong>Jennifer Galeano of </strong></span></span></span></span><strong><span style="color: rgb(0\, 0\, 0)\; font-family: Arial\, Verdana\, Helvetica\, sans-serif\; font-size: 16px\; white-space: pre-wrap\;">FreshC</span><span style="color: rgb(0\, 0\, 0)\; font-family: Arial\, Verdana\, Helvetica\, sans-serif\; font-size: 16px\; white-space: pre-wrap\;">o Marketing Studio</span></strong><span style="color:#000000\;"><span style="font-size:16px\;"><span style="box-sizing: border-box\;"><span style="box-sizing: border-box\;"> about how business owners can market their business on social media\, blogs\, or videos made with their phones<span style="font-family:arial\;">. She will also share how to build a marketing budget for ads\, flyers\, and partnerships. </span></span></span></span></span><span style="font-family:arial\;"><span style="color:#050505\;"><span style="font-size:11.5pt\;">Jennifer will be sharing some stories of successful strategies we have been using for our clients. Easy ways to create content with your phone\, how to create a budget for digital ads\, new marketing trends\, and new tips to build a digital presence for your business. </span></span></span><br />\n<br />\n<span style="color:#000000\;"><span style="font-size:16px\;"><span style="box-sizing: border-box\;"><span style="box-sizing: border-box\;">Jennifer is the Marketing Strategist\, President\, and Founder of FreshCo Marketing Studio\, formerly known as Eureka Marketing Agency\, a bilingual (Spanish and English) marketing firm that provides services including branding\, website development\, social media marketing\, 3-D design\, graphics\, commercial videography\, and photography. Since 2014\, Jennifer has been helping organizations\, private companies\, and Latino business owners by creating brands\, concepts\, and digital presence of dozens of businesses and restaurants in multiple states including North and South Carolina\, Massachusetts\, Virginia\, West Virginia\, Ohio\, Texas and Florida. Jennifer received her Bachelor&#39\;s Degree in Journalism and Social Communication in Bogota\, Colombia. Her professional experience includes 20+ years in radio\, broadcasting\, and digital marketing helping with a particular passion for multicultural small businesses.</span></span></span></span></p>\n
LOCATION:Wilmington Chamber of Commerce
UID:e.2869.2438
SEQUENCE:3
DTSTAMP:20260420T122148Z
URL:https://www.wilmingtonchamber.org/events/details/2023-latin-american-business-council-meeting-04-19-2023-2438
END:VEVENT

END:VCALENDAR
