BEGIN:VCALENDAR
VERSION:2.0
PRODID:-//ChamberMaster//Event Calendar 2.0//EN
METHOD:PUBLISH
X-PUBLISHED-TTL:P3D
REFRESH-INTERVAL:P3D
CALSCALE:GREGORIAN
BEGIN:VEVENT
DTSTART:20230809T220000Z
DTEND:20230809T233000Z
X-MICROSOFT-CDO-ALLDAYEVENT:FALSE
SUMMARY:2023 - Latin American Business Council Meeting
DESCRIPTION:The vision of the Latin American Business Council is to foster the economic growth and development of the Latin American business community in the Cape Fear Region. We are building a multicultural coalition that celebrates the diversity of the Latino community and builds professional leadership through increased access to business and education resources\, the establishment of multilingual platforms\, and advocacy through public policy. \n\n\n\nJuntos Prosperamos\, Juntos Progresamos\, Together we prosper\, together we make progress.\n\n\n\nThis program will be presented in English.\n\n\n\nOpen to the public. ALL chamber members AND nonmembers are invited to attend this meeting.\n\n\n\nAUGUST - PLEASE NOTE LOCATION IS AT CHANNEL POWERED BY LIVE OAK BANK!\n\n\n\nDiscover key strategies for small business success! We delve into effective hiring\, onboarding\, and professional development. Find out how to balance hiring and training to optimize costs and maintain a stable\, skilled workforce. Boost your business growth and foster a winning team with our actionable insights and tools that you'll be able to implement in your business." Our speaker this month is Atiba Johnson of Channel powered by Live Oak Bank.\n\n\n\nSCHEDULE\n\n\n\n6:00 PM Arrive and Connect\n\n6:25 PM Program Begins\n\n7:10 PM Networking\n\n7:30 PM Program Ends
X-ALT-DESC;FMTTYPE=text/html:<p class="p1" style="box-sizing: border-box\; margin: 0px\; font-variant-numeric: normal\; font-variant-east-asian: normal\; font-stretch: normal\; font-size: 11px\; line-height: normal\; font-family: Helvetica\; color: rgb(0\, 0\, 0)\;"><span style="font-size:16px\;"><span style="font-family:arial\;"><span style="color:#333333\;">The vision of the Latin American Business Council is to foster the economic growth and development of the Latin American business community in the Cape Fear Region. We are building a multicultural coalition that celebrates the diversity of the Latino community and builds professional leadership through increased access to business and education resources\, the establishment of multilingual platforms\, and advocacy through public policy.&nbsp\;</span></span></span><br />\n<br />\n<span style="color: rgb(0\, 0\, 0)\; font-family: arial\; font-size: 16px\; font-weight: 700\;">Juntos Prosperamos\, Juntos Progresamos\, Together we prosper\, together we make progress.</span><br />\n<br />\n<span style="font-size:16px\;"><span style="font-family:arial\;"><span style="color:#333333\;">This program will be presented in English.</span></span></span><br />\n<br />\n<span box-sizing:="" color:="" fira="" font-size:="" style="box-sizing: border-box\; color: rgb(0\, 0\, 0)\; font-family: &quot\;Fira Sans&quot\;\, sans-serif\; font-size: 16px\;"><span style="box-sizing: border-box\; font-weight: bolder\; font-family: arial\;"><u style="box-sizing: border-box\;">Open to the public.</u></span></span><span style="box-sizing: border-box\; color: rgb(0\, 0\, 0)\; font-size: 16px\; font-family: arial\; font-weight: bolder\;">&nbsp\;ALL chamber members AND nonmembers&nbsp\;are invited to attend this meeting.</span><br />\n<br />\n<span style="font-size:16px\;"><span style="font-family:arial\;"><span style="color:#333333\;"><strong>AUGUST - PLEASE NOTE LOCATION IS AT CHANNEL POWERED BY LIVE OAK BANK!</strong></span><br />\n<br />\nDiscover key strategies for small business success! We delve into effective hiring\, onboarding\, and professional development. Find out how to balance hiring and training to optimize costs and maintain a stable\, skilled workforce. Boost your business growth and foster a winning team with our actionable insights and tools that you&rsquo\;ll be able to implement in your business.&rdquo\; Our speaker this month is Atiba Johnson of Channel powered by Live Oak Bank.<br />\n<br />\n<strong>SCHEDULE</strong><br />\n<br />\n6:00 PM Arrive and Connect<br />\n6:25 PM Program Begins<br />\n7:10 PM Networking<br />\n7:30 PM Program Ends</span></span><br />\n&nbsp\;</p>\n
LOCATION:Channel powered by Live Oak Bank 106 Market St Suite 200 Wilmington\, NC 28401
UID:e.2869.2440
SEQUENCE:3
DTSTAMP:20260420T190036Z
URL:https://www.wilmingtonchamber.org/events/details/2023-latin-american-business-council-meeting-08-09-2023-2440
END:VEVENT

END:VCALENDAR
