BEGIN:VCALENDAR
VERSION:2.0
PRODID:-//ChamberMaster//Event Calendar 2.0//EN
METHOD:PUBLISH
X-PUBLISHED-TTL:P3D
REFRESH-INTERVAL:P3D
CALSCALE:GREGORIAN
BEGIN:VEVENT
DTSTART:20230420T123000Z
DTEND:20230420T140000Z
X-MICROSOFT-CDO-ALLDAYEVENT:FALSE
SUMMARY:2023 - Leadership Wilmington Alumni Council Workshop: DEI and Operational Excellence
DESCRIPTION:This event is only open to current Leadership Wilmington Alumni Council members or graduates of the Leadership Wilmington program.\n\n\n\nJoin fellow alumni at this engaging workshop. DEI is both a compliance and organizational component to any business. For companies to achieve DEI excellence\, they need to make it a part of their core business strategies. It is not a game of numbers. You must integrate DEI policies and procedures into businesses' operational structures.\n\n\n\nThis workshop is custom built for you\, Leadership Wilmington Alumni\, so please complete this survey after registering to attend.\n\n\n\nFacilitator Information: Caroline King (She/Her/Hers)\, Ph. D\, MHA\, PMP\, ACND-W\, ACDEI\, founder of Bright Star Consulting\n\n\n\nBright Star is an organization that seeks to help address the challenges experienced in workplaces to create a great workplace for all. In particular\, we strive to address the challenge of diversity and inclusion in workplaces by bridging the gaps and educating those ready to make positive societal changes.
X-ALT-DESC;FMTTYPE=text/html:<br />\n<span style="font-size:16px\;"><span style="font-family:arial\;"><strong>This event is only open to current Leadership Wilmington Alumni Council members or graduates of the Leadership Wilmington program.</strong><br />\n<br />\nJoin fellow alumni at this engaging workshop.</span></span>&nbsp\;<font color="#1a1a1a" face="arial\, sans-serif"><span style="font-size: 16px\;">DEI is both a compliance and organizational component to any business. For companies to achieve DEI excellence\, they need to make it a part of their core business strategies. It is not a game of numbers. You must integrate DEI policies and procedures into businesses&#39\; operational structures.<br />\n<br />\nThis workshop is custom built for you\, Leadership Wilmington Alumni\, so please <a href="https://forms.gle/8EZHDA8sTsZtdhrL6">complete this survey</a> after registering to attend.<br />\n<br />\nFacilitator Information: Caroline King (She/Her/Hers)\, Ph. D\, MHA\, PMP\, ACND-W\, ACDEI\, founder of Bright Star Consulting<br />\n<br />\nBright Star is an organization that seeks to help address the challenges experienced in workplaces to create a great workplace for all. In particular\, we strive to address the challenge of diversity and inclusion in workplaces by bridging the gaps and educating those ready to make positive societal changes.&nbsp\;</span></font>
LOCATION:Wilmington Chamber of Commerce 1 Estell Lee Place Wilmington\, NC 28401
UID:e.2869.2479
SEQUENCE:3
DTSTAMP:20260420T083823Z
URL:https://www.wilmingtonchamber.org/events/details/2023-leadership-wilmington-alumni-council-workshop-dei-and-operational-excellence-2479
END:VEVENT

END:VCALENDAR
