BEGIN:VCALENDAR
VERSION:2.0
PRODID:-//ChamberMaster//Event Calendar 2.0//EN
METHOD:PUBLISH
X-PUBLISHED-TTL:P3D
REFRESH-INTERVAL:P3D
CALSCALE:GREGORIAN
BEGIN:VEVENT
DTSTART:20240117T133000Z
DTEND:20240117T150000Z
X-MICROSOFT-CDO-ALLDAYEVENT:FALSE
SUMMARY:2024 - African American Business Council Meeting
DESCRIPTION:The vision of the African American Business Council is to strategically position black businesses for inclusion and success through opportunity\, education\, exposure\, entrepreneurship\, economic development\, and public policy advocacy. We are committed to leading\, educating\, and advocating to grow African American-owned businesses and to create and grow a thriving African American middle class in Wilmington.\n\n\n\nMEETING AGENDA\n\n\n\n8:30 AM - 8:45 AM - Converse over Coffee\n\n8:45 - 10:00 AM - Introductions\, Guest Speaker\, Chamber Announcements\n\n\n\nJANUARY\n\n\n\nAre you starting the new year with intention to present a new you\, new brand or both? Join Lynne Jones of LJ Design Studio as she helps you develop a strategy for yourself to get a grip on the three things you need to have in place as you set the new year ablaze towards making your mark in 2024! \n\n \n\n\n \n\nSPEAKER\n\n \n\nLynne Jones\, the visionary owner and designer of LJ Design Studio\, a creative force that weaves narratives through interior design and branding. Since commencing her design journey in 2011\, Lynne has cultivated a reputation for infusing intricate details\, innovative concepts\, and bespoke designs into various projects\, ranging from residential & commercial interiors to weddings and large-scale events.\n\n \n\nLynne's passion lies in helping businesses\, entrepreneurs\, and individuals articulate their unique stories through the art of branded design. Armed with a degree in Public & Nonprofit Administration from UNC Pembroke and a background in managerial and administrative skills\, Lynne's ability to tell compelling narratives through design sets her apart in the industry. \n\n \n\nBeyond her design prowess\, Lynne is a dedicated community leader. She served on the Board of Directors for Voyage and held the position of Vice President for YWCA Lower Cape Fear\, serving for two terms. Currently\, she actively contributes to the committee for Young Life Cape Fear and participates in various outreach endeavors\, showcasing her commitment to making a positive impact on the community.\n\n \n\nLynne's portfolio includes an array of remarkable projects\, such as Channel Powered By Live Oak Bank (2022)\, On Thyme Restaurant (2022)\, The Fete: Wilmington's Exclusive Secret Dinner (2017-2018)\, Pretty in Pink Foundation's Pretty In Pink Fashion Walk & Gala (2015-2016)\, GreenLine Pizza & Steak (2016)\, Naturally Fly Wilmington's Natural Hair Expo (2015)\, and Med-North Health Center's Hope for Health Gala (2015). Lynne also served as the host planner for Operation Marry Me Military in New Hanover County (2013-2014) and numerous other interior and branding projects.\n\n \n\n \n\n \n\n \n\nAll Chamber members AND non-members are welcome to attend the meeting\, but registration is required!
X-ALT-DESC;FMTTYPE=text/html:<p style="box-sizing: border-box\; margin-top: 0px\; margin-bottom: 1rem\; outline: 0px\; font-family: &quot\;Fira Sans&quot\;\, sans-serif\; font-size: 16px\;"><span style="font-family:arial\;"><span style="box-sizing: border-box\; outline: 0px\;"><span style="box-sizing: border-box\; outline: 0px\; color: rgb(0\, 0\, 0)\;"><span style="box-sizing: border-box\; outline: 0px\;"><span style="box-sizing: border-box\; outline: 0px\;">The vision of the African American Business Council is to strategically position black businesses for inclusion and success through opportunity\, education\, exposure\, entrepreneurship\, economic development\, and public policy advocacy.&nbsp\;<span style="box-sizing: border-box\; margin: 0px\; padding: 0px\; border: 0px\; font-variant-numeric: inherit\; font-variant-east-asian: inherit\; font-stretch: inherit\; line-height: inherit\; vertical-align: baseline\;">We are&nbsp\;</span></span></span><span style="box-sizing: border-box\;"><span style="box-sizing: border-box\;">committed to leading\, educating\, and advocating to grow African American-owned businesses and to create and grow a thriving African American middle class in Wilmington.</span></span></span></span><br style="box-sizing: border-box\;" />\n<br />\n<span style="box-sizing: border-box\;"><span style="box-sizing: border-box\;"><span style="box-sizing: border-box\; font-weight: bolder\;">MEETING AGENDA</span><br style="box-sizing: border-box\;" />\n<br style="box-sizing: border-box\;" />\n8:30 AM - 8:45&nbsp\;AM -&nbsp\;<span style="box-sizing: border-box\; font-weight: bolder\;">Converse over Coffee</span></span><br style="box-sizing: border-box\;" />\n<span style="box-sizing: border-box\;">8:45&nbsp\;- 10:00 AM - Introductions\, Guest Speaker\, Chamber Announcements</span></span></span></p>\n\n<p style="box-sizing: border-box\; margin-top: 0px\; margin-bottom: 1rem\; font-family: &quot\;Fira Sans&quot\;\, sans-serif\; font-size: 16px\;"><br style="box-sizing: border-box\;" />\n<span style="font-family:arial\;"><span style="box-sizing: border-box\;"><span style="box-sizing: border-box\; outline: 0px\; orphans: 3\; widows: 3\; color: rgb(0\, 0\, 0)\;"><span style="box-sizing: border-box\; font-weight: bolder\;">JANUARY</span></span></span><br />\n<br />\n<b style="font-family: sans-serif\, Arial\, Verdana\, &quot\;Trebuchet MS&quot\;\;">Are you starting the new year with intention to present a new you\, new brand or both? Join Lynne Jones of LJ Design Studio as she helps you develop a strategy for yourself to get a grip on the three things you need to have in place as you set the new year ablaze towards making your mark in 2024!&nbsp\;</b></span></p>\n\n<p class="p1" style="margin-top:0in\;margin-right:0in\;margin-bottom:2.25pt\;\nmargin-left:0in">&nbsp\;</p>\n\n<p class="p1" style="margin-top:0in\;margin-right:0in\;margin-bottom:2.25pt\;\nmargin-left:0in"><span style="font-family:arial\;"><span style="font-size:23.5pt"><o:p></o:p></span></span></p>\n<span style="font-family:arial\;">&nbsp\;</span>\n\n<div style="box-sizing: border-box\; font-family: &quot\;Fira Sans&quot\;\, sans-serif\; font-size: 16px\; orphans: 3\; widows: 3\;"><span style="font-family:arial\;"><font color="#000000" style="box-sizing: border-box\;"><font style="box-sizing: border-box\;"><span style="box-sizing: border-box\; font-weight: bolder\;">SPEAKER</span></font></font></span><br />\n&nbsp\;</div>\n\n<p class="gmail-p1" style="margin:0in"><span style="font-family:arial\;">Lynne Jones\, the visionary owner and designer of LJ Design Studio\, a creative force that weaves narratives through interior design and branding. Since commencing her design journey in 2011\, Lynne has cultivated a reputation for infusing intricate details\, innovative concepts\, and bespoke designs into various projects\, ranging from residential &amp\; commercial interiors to weddings and large-scale events.</span></p>\n\n<p class="gmail-p2" style="margin:0in\;font-variant-numeric:normal\;font-variant-east-asian:normal\;\nfont-variant-alternates:normal\;font-kerning:auto\;font-feature-settings:normal\;\nfont-stretch:normal\;min-height:15px">&nbsp\;</p>\n\n<p class="gmail-p1" style="margin:0in\;font-variant-numeric:normal\;font-variant-east-asian:normal\;\nfont-variant-alternates:normal\;font-kerning:auto\;font-feature-settings:normal\;\nfont-stretch:normal"><span style="font-family:arial\;">Lynne&#39\;s passion lies in helping businesses\, entrepreneurs\, and individuals articulate their unique stories through the art of branded design. Armed with a degree in Public &amp\; Nonprofit Administration from UNC Pembroke and a background in managerial and administrative skills\, Lynne&#39\;s ability to tell compelling narratives through design sets her apart in the industry.<o:p>&nbsp\;</o:p></span></p>\n\n<p class="gmail-p2" style="margin:0in\;font-variant-numeric:normal\;font-variant-east-asian:normal\;\nfont-variant-alternates:normal\;font-kerning:auto\;font-feature-settings:normal\;\nfont-stretch:normal\;min-height:15px">&nbsp\;</p>\n\n<p class="gmail-p1" style="margin:0in\;font-variant-numeric:normal\;font-variant-east-asian:normal\;\nfont-variant-alternates:normal\;font-kerning:auto\;font-feature-settings:normal\;\nfont-stretch:normal"><span style="font-family:arial\;">Beyond her design prowess\, Lynne is a dedicated community leader. She served on the Board of Directors for Voyage and held the position of Vice President for YWCA Lower Cape Fear\, serving for two terms. Currently\, she actively contributes to the committee for Young Life Cape Fear and participates in various outreach endeavors\, showcasing her commitment to making a positive impact on the community.<o:p></o:p></span></p>\n\n<p class="gmail-p2" style="margin:0in\;font-variant-numeric:normal\;font-variant-east-asian:normal\;\nfont-variant-alternates:normal\;font-kerning:auto\;font-feature-settings:normal\;\nfont-stretch:normal\;min-height:15px">&nbsp\;</p>\n\n<p class="gmail-p1" style="margin:0in\;font-variant-numeric:normal\;font-variant-east-asian:normal\;\nfont-variant-alternates:normal\;font-kerning:auto\;font-feature-settings:normal\;\nfont-stretch:normal"><span style="font-family:arial\;">Lynne&#39\;s portfolio includes an array of remarkable projects\, such as Channel Powered By Live Oak Bank (2022)\, On Thyme Restaurant (2022)\, The Fete: Wilmington&rsquo\;s Exclusive Secret Dinner (2017-2018)\, Pretty in Pink Foundation&#39\;s Pretty In Pink Fashion Walk &amp\; Gala (2015-2016)\, GreenLine Pizza &amp\; Steak (2016)\, Naturally Fly Wilmington&#39\;s Natural Hair Expo (2015)\, and Med-North Health Center&#39\;s Hope for Health Gala (2015). Lynne also served as the host planner for Operation Marry Me Military in New Hanover County (2013-2014) and numerous other interior and branding projects.<o:p></o:p></span></p>\n\n<p class="gmail-p1" style="margin:0in\;font-variant-numeric:normal\;font-variant-east-asian:normal\;\nfont-variant-alternates:normal\;font-kerning:auto\;font-feature-settings:normal\;\nfont-stretch:normal">&nbsp\;</p>\n\n<p class="gmail-p1" style="margin:0in\;font-variant-numeric:normal\;font-variant-east-asian:normal\;\nfont-variant-alternates:normal\;font-kerning:auto\;font-feature-settings:normal\;\nfont-stretch:normal">&nbsp\;</p>\n\n<p class="gmail-p1" style="margin:0in\;font-variant-numeric:normal\;font-variant-east-asian:normal\;\nfont-variant-alternates:normal\;font-kerning:auto\;font-feature-settings:normal\;\nfont-stretch:normal">&nbsp\;</p>\n\n<div style="box-sizing: border-box\; font-family: &quot\;Fira Sans&quot\;\, sans-serif\; font-size: 16px\; orphans: 3\; widows: 3\;">&nbsp\;</div>\n\n<p style="box-sizing: border-box\; margin-top: 0px\; margin-bottom: 1rem\; font-family: &quot\;Fira Sans&quot\;\, sans-serif\; font-size: 16px\;"><span style="font-family:arial\;"><span style="box-sizing: border-box\;"><span style="box-sizing: border-box\; outline: 0px\; orphans: 3\; widows: 3\; color: rgb(0\, 0\, 0)\;">All Chamber members&nbsp\;<span style="box-sizing: border-box\; font-weight: bolder\;"><em style="box-sizing: border-box\;">AND</em></span>&nbsp\;non-members are welcome to attend the meeting\, but registration is required!</span></span></span></p>\n\n<p style="box-sizing: border-box\; margin-top: 0px\; margin-bottom: 1rem\; font-family: &quot\;Fira Sans&quot\;\, sans-serif\; font-size: 16px\;">&nbsp\;</p>\n
LOCATION:Wilmington Chamber of Commerce 1 Estell Lee Place Wilmington\, NC 28401
UID:e.2869.3100
SEQUENCE:3
DTSTAMP:20260420T113002Z
URL:https://www.wilmingtonchamber.org/events/details/2024-african-american-business-council-meeting-3100
END:VEVENT

END:VCALENDAR
