BEGIN:VCALENDAR
VERSION:2.0
PRODID:-//ChamberMaster//Event Calendar 2.0//EN
METHOD:PUBLISH
X-PUBLISHED-TTL:P3D
REFRESH-INTERVAL:P3D
CALSCALE:GREGORIAN
BEGIN:VEVENT
DTSTART:20250326T153000Z
DTEND:20250326T170000Z
X-MICROSOFT-CDO-ALLDAYEVENT:FALSE
SUMMARY:2025 - Leadership Wilmington Alumni Council Lunch and Learn: The Hidden Currency of Leadership: Strengthening Trust Through Adaptive Communication sponsored by The Forte Institute
DESCRIPTION:This event is only open to current Leadership Wilmington Alumni Council members or graduates of the Leadership Wilmington program.\n\n\n\n11:30am-12:00pm Lunch and Networking\n\n12:00pm-1:00pm Leadership Lesson - Trust is the foundation of leadership\, but it doesn't happen by accident.\n\nIt's a currency earned through consistent actions\, clear communication\, and the willingness to adapt.\n\nAnd like any currency\, it comes at a cost.\n\nThe price of building and maintaining trust is energy being intentional about how we communicate\, listen\, and adjust to the needs of those around us.\n\n\n\nLunch will be provided so registration is required.
X-ALT-DESC;FMTTYPE=text/html:<br />\n<span style="font-size:16px\;"><span style="font-family:arial\;">This event is only open to current Leadership Wilmington Alumni Council members or graduates of the Leadership Wilmington program.<br />\n<br />\n11:30am-12:00pm Lunch and Networking<br />\n12:00pm-1:00pm Leadership Lesson - Trust is the foundation of leadership\, but it doesn&rsquo\;t happen by accident.<br />\nIt&rsquo\;s a currency&mdash\;earned through consistent actions\, clear communication\, and the willingness to adapt.<br />\nAnd like any currency\, it comes at a cost.<br />\nThe price of building and maintaining trust is energy&mdash\;being intentional about how we communicate\, listen\, and adjust to the needs of those around us.<br />\n<br />\nLunch will be provided so registration is required.</span></span><br />\n&nbsp\;
LOCATION:UNCW Center for Innovation and Entrepreneurship 803 G S. College Road Wilmington\, NC 28403
UID:e.2869.3494
SEQUENCE:3
DTSTAMP:20260421T080636Z
URL:https://www.wilmingtonchamber.org/events/details/2025-leadership-wilmington-alumni-council-lunch-and-learn-the-hidden-currency-of-leadership-strengthening-trust-through-adaptive-communication-sponsored-by-the-forte-institute-3494
END:VEVENT

END:VCALENDAR
