BEGIN:VCALENDAR
VERSION:2.0
PRODID:-//ChamberMaster//Event Calendar 2.0//EN
METHOD:PUBLISH
X-PUBLISHED-TTL:P3D
REFRESH-INTERVAL:P3D
CALSCALE:GREGORIAN
BEGIN:VEVENT
DTSTART:20210721T160000Z
DTEND:20210721T170000Z
X-MICROSOFT-CDO-ALLDAYEVENT:FALSE
SUMMARY:African American Business Council City & County Budget Update
DESCRIPTION:The vision of the African American Business Council is to strategically position black businesses for inclusion and success through opportunity\, education\, exposure\, entrepreneurship\, economic development\, and public policy advocacy.\n\n\n\nOur guest speakers this month include budget officers from the City of Wilmington and New Hanover County Government.\nThe Wilmington Chamber of Commerce is located at 1 Estell Lee Place\, Wilmington\, NC 28401. Our guests are welcome to park in our parking lot or at the Wilmington Convention Center parking deck. If you must park in the deck\, please let a chamber staffer know so we can provide you with a complimentary parking voucher. Our building's main entrance faces the Cape Fear River and is accessed by passing through the gate to our building's left.
X-ALT-DESC;FMTTYPE=text/html:<span style="font-family:arial\;"><span style="font-size:16px\;">The vision of the African American Business Council is to strategically position black businesses for inclusion and success through opportunity\, education\, exposure\, entrepreneurship\, economic development\, and public policy advocacy.<br />\n<br />\nOur guest speakers this month include budget officers from the City of Wilmington and New Hanover County Government.</span></span>\n<div style="font-size:11pt\;font-family:Calibri\, sans-serif\;"><span style="font-family:arial\;"><span style="font-size:16px\;"><span style="position:static !important\;margin:0px !important\;padding:0px !important\;opacity:1 !important\;font-style:inherit !important\;font-variant-caps:inherit !important\;font-weight:inherit !important\;font-stretch:inherit !important\;">The Wilmington Chamber of Commerce is located at 1 Estell Lee Place\, Wilmington\, NC 28401. Our guests are welcome to park in our <span style="position:static !important\;margin:0px !important\;padding:0px !important\;opacity:1 !important\;float:inherit !important\;font-style:inherit !important\;font-variant-caps:inherit !important\;font-weight:inherit !important\;font-stretch:inherit !important\;"><span style="background-color:#ffee94 !important\;">parking</span></span> lot or at the Wilmington Convention Center <span style="position:static !important\;margin:0px !important\;padding:0px !important\;opacity:1 !important\;float:inherit !important\;font-style:inherit !important\;font-variant-caps:inherit !important\;font-weight:inherit !important\;font-stretch:inherit !important\;"><span style="background-color:#ffee94 !important\;">parking</span></span> deck. If you must park in the deck\, please let a chamber staffer know so we can provide you with a complimentary <span style="position:static !important\;margin:0px !important\;padding:0px !important\;opacity:1 !important\;float:inherit !important\;font-style:inherit !important\;font-variant-caps:inherit !important\;font-weight:inherit !important\;font-stretch:inherit !important\;"><span style="background-color:#ffee94 !important\;">parking</span></span> voucher. Our building&rsquo\;s main entrance faces the Cape Fear River and is accessed by passing through the gate to our building&#39\;s left.&nbsp\;</span></span></span></div>\n
LOCATION:The Wilmington Chamber of Commerce is located at 1 Estell Lee Place\, Wilmington\, NC 28401. Our guests are welcome to park in our parking lot or at the Wilmington Convention Center parking deck. If you must park in the deck\, please let a chamber staffer know so we can provide you with a complimentary parking voucher. Our building's main entrance faces the Cape Fear River and is accessed by passing through the gate to our building's left.
UID:e.2869.580
SEQUENCE:3
DTSTAMP:20260422T081732Z
URL:https://www.wilmingtonchamber.org/events/details/african-american-business-council-city-county-budget-update-580
END:VEVENT

END:VCALENDAR
