BEGIN:VCALENDAR
VERSION:2.0
PRODID:-//ChamberMaster//Event Calendar 2.0//EN
METHOD:PUBLISH
X-PUBLISHED-TTL:P3D
REFRESH-INTERVAL:P3D
CALSCALE:GREGORIAN
BEGIN:VEVENT
DTSTART:20200318T153000Z
DTEND:20200318T153000Z
X-MICROSOFT-CDO-ALLDAYEVENT:FALSE
SUMMARY:CANCELLED - AABC Meeting
DESCRIPTION:This meeting has been cancelled.\n\n\n\nThe North Carolina Institute of Medicine is shaping policy for a healthier North Carolina. We as an African American Business Council are fortunate to have our very own Chief Physician Executive\, Dr. Philip Brown as the President-Elect of the NC Medical Society.\n\n\n\nDr. Brown is coming into this role very focused on the Healthy NC 2030 (#hnc2030). It is a decade long plan designed to improve the health and lives of the citizens of North Carolina. \n\n\n\nThe plan sets the stage to focus on health equity and the overall drivers of health\, including structural racism. With successful implementation across multiple sectors\, #hnc2030 is expected to result in North Carolina's first ever US Top 10 ranking for overall health by the year 2030. \n\n\n\nDr. Brown's overview presentation will allow you to understand how your participation with #hnc1030 benefits your business and our community.
X-ALT-DESC;FMTTYPE=text/html:<span style="font-size:16px\;">This meeting has been cancelled.<br />\n<br style="color: rgb(29\, 33\, 41)\; font-family: system-ui\, -apple-system\, system-ui\, &quot\;.SFNSText-Regular&quot\;\, sans-serif\; font-size: 14px\; white-space: pre-wrap\;" />\n<span style="color: rgb(29\, 33\, 41)\; font-family: system-ui\, -apple-system\, system-ui\, &quot\;.SFNSText-Regular&quot\;\, sans-serif\; white-space: pre-wrap\;">The North Carolina Institute of Medicine is shaping policy for a healthier North Carolina. We as an African American Business Council are fortunate to have our very own Chief Physician Executive\, Dr. Philip Brown as the President-Elect of the NC Medical Society.</span><br style="color: rgb(29\, 33\, 41)\; font-family: system-ui\, -apple-system\, system-ui\, &quot\;.SFNSText-Regular&quot\;\, sans-serif\; font-size: 14px\; white-space: pre-wrap\;" />\n<br style="color: rgb(29\, 33\, 41)\; font-family: system-ui\, -apple-system\, system-ui\, &quot\;.SFNSText-Regular&quot\;\, sans-serif\; font-size: 14px\; white-space: pre-wrap\;" />\n<span style="color: rgb(29\, 33\, 41)\; font-family: system-ui\, -apple-system\, system-ui\, &quot\;.SFNSText-Regular&quot\;\, sans-serif\; white-space: pre-wrap\;">Dr. Brown is coming into this role very focused on the Healthy NC 2030 (</span><a href="https://www.facebook.com/hashtag/hnc2030" style="color: rgb(56\, 88\, 152)\; cursor: pointer\; text-decoration-line: none\; font-family: system-ui\, -apple-system\, system-ui\, &quot\;.SFNSText-Regular&quot\;\, sans-serif\; font-size: 14px\; white-space: pre-wrap\;" target="_blank">#hnc2030</a><span style="color: rgb(29\, 33\, 41)\; font-family: system-ui\, -apple-system\, system-ui\, &quot\;.SFNSText-Regular&quot\;\, sans-serif\; white-space: pre-wrap\;">). It is a decade long plan designed to improve the health and lives of the citizens of North Carolina. </span><br style="color: rgb(29\, 33\, 41)\; font-family: system-ui\, -apple-system\, system-ui\, &quot\;.SFNSText-Regular&quot\;\, sans-serif\; font-size: 14px\; white-space: pre-wrap\;" />\n<br style="color: rgb(29\, 33\, 41)\; font-family: system-ui\, -apple-system\, system-ui\, &quot\;.SFNSText-Regular&quot\;\, sans-serif\; font-size: 14px\; white-space: pre-wrap\;" />\n<span style="color: rgb(29\, 33\, 41)\; font-family: system-ui\, -apple-system\, system-ui\, &quot\;.SFNSText-Regular&quot\;\, sans-serif\; white-space: pre-wrap\;">The plan sets the stage to focus on health equity and the overall drivers of health\, including structural racism. With successful implementation across multiple sectors\, #hnc2030 is expected to result in North Carolina&#39\;s first ever US Top 10 ranking for overall health by the year 2030. </span><br style="color: rgb(29\, 33\, 41)\; font-family: system-ui\, -apple-system\, system-ui\, &quot\;.SFNSText-Regular&quot\;\, sans-serif\; font-size: 14px\; white-space: pre-wrap\;" />\n<br style="color: rgb(29\, 33\, 41)\; font-family: system-ui\, -apple-system\, system-ui\, &quot\;.SFNSText-Regular&quot\;\, sans-serif\; font-size: 14px\; white-space: pre-wrap\;" />\n<span style="color: rgb(29\, 33\, 41)\; font-family: system-ui\, -apple-system\, system-ui\, &quot\;.SFNSText-Regular&quot\;\, sans-serif\; white-space: pre-wrap\;">Dr. Brown&rsquo\;s overview presentation will allow you to understand how your participation with </span><a href="https://www.facebook.com/hashtag/hnc1030" style="color: rgb(56\, 88\, 152)\; cursor: pointer\; text-decoration-line: none\; font-family: system-ui\, -apple-system\, system-ui\, &quot\;.SFNSText-Regular&quot\;\, sans-serif\; font-size: 14px\; white-space: pre-wrap\;" target="_blank">#hnc1030</a><span style="color: rgb(29\, 33\, 41)\; font-family: system-ui\, -apple-system\, system-ui\, &quot\;.SFNSText-Regular&quot\;\, sans-serif\; white-space: pre-wrap\;"> benefits your business and our community.</span></span>
LOCATION:
UID:e.2869.564
SEQUENCE:3
DTSTAMP:20260423T232047Z
URL:https://www.wilmingtonchamber.org/events/details/cancelled-aabc-meeting-564
END:VEVENT

END:VCALENDAR
