BEGIN:VCALENDAR
VERSION:2.0
PRODID:-//ChamberMaster//Event Calendar 2.0//EN
METHOD:PUBLISH
X-PUBLISHED-TTL:P3D
REFRESH-INTERVAL:P3D
CALSCALE:GREGORIAN
BEGIN:VEVENT
DTSTART:20200409T150000Z
DTEND:20200409T154000Z
X-MICROSOFT-CDO-ALLDAYEVENT:FALSE
SUMMARY:Digital Dialogue Sponsored by The Flying Locksmiths
DESCRIPTION:Dial in & Network\n\nWe know it's not business as usual\, but the Wilmington Chamber is here for your networking needs.\n\nDial In for digital editions of smaller version of Chamber Connections to engage and network.\n\nThree-Minute Moments:  You will have the opportunity to share your organization's story with a captive audience.\n\nREGISTRATION REQUIRED\, spots are limited.\n\nPlease limit your registration to 1 representative per organization each time.  Other reps in the same organization will have future opportunities to join.
X-ALT-DESC;FMTTYPE=text/html:<span style="font-size: 18px\;"><span style="font-size:20px\;"><b>Dial in &amp\; Network</b></span><br />\n<span style="font-size:16px\;">We know it&#39\;s not business as usual\, but the Wilmington Chamber is here for your networking needs.<br />\n<span style="font-size:14px\;">Dial In for digital editions of smaller version of Chamber Connections to engage and network.</span></span></span><br />\n<span style="font-size:14px\;"><span background-color:="" style="color: rgb(51\, 51\, 51)\; font-family: sans-serif\, Arial\, Verdana\, " trebuchet="">Three-Minute Moments:&nbsp\; You will have the opportunity to share your organization&#39\;s story with a captive audience.</span><br />\n<span style="font-size:18px\;"><strong background-color:="" font-size:="" style="color: rgb(51\, 51\, 51)\; font-family: sans-serif\, Arial\, Verdana\, " trebuchet="">REGISTRATION REQUIRED</strong></span><span background-color:="" font-size:="" style="color: rgb(51\, 51\, 51)\; font-family: sans-serif\, Arial\, Verdana\, " trebuchet=""><span style="font-size:18px\;">\, spots are limited.</span><br />\nPlease limit your registration to 1 representative per organization each time.&nbsp\; Other reps in the same organization will have future opportunities to join.</span></span>
LOCATION:Zoom. Meeting log will be emailed after registration.
UID:e.2869.981
SEQUENCE:3
DTSTAMP:20260424T115136Z
URL:https://www.wilmingtonchamber.org/events/details/digital-dialogue-sponsored-by-the-flying-locksmiths-981
END:VEVENT

END:VCALENDAR
