BEGIN:VCALENDAR
VERSION:2.0
PRODID:-//ChamberMaster//Event Calendar 2.0//EN
METHOD:PUBLISH
X-PUBLISHED-TTL:P3D
REFRESH-INTERVAL:P3D
CALSCALE:GREGORIAN
BEGIN:VEVENT
DTSTART:20190807T124500Z
DTEND:20190807T134500Z
X-MICROSOFT-CDO-ALLDAYEVENT:FALSE
SUMMARY:Free Seminar on Restaurant Management
DESCRIPTION:p.p1 {margin: 0.0px 0.0px 0.0px 0.0px\; font: 11.0px Helvetica}\np.p2 {margin: 0.0px 0.0px 0.0px 0.0px\; font: 11.0px Helvetica\; min-height: 13.0px}\n\nPanel Discussion on Restaurant Management Presented by SCORE: How to control your costs\, manage your cash flow\, optimize your brand\, and improve your bottom line. Open to existing restaurateurs and individuals looking to open a restaurant.\n\n \n\nOur three panelists include a former Wilmington restaurateur for 16 years who owned and operated two locations in town\, with expertise in financial record keeping\, inventory reporting\, and professional catering\; a US Foods business development manager\; and a national restaurant chain management specialist\, with expertise across all aspects of the restaurant business.
X-ALT-DESC;FMTTYPE=text/html:<style type="text/css">p.p1 {margin: 0.0px 0.0px 0.0px 0.0px\; font: 11.0px Helvetica}\np.p2 {margin: 0.0px 0.0px 0.0px 0.0px\; font: 11.0px Helvetica\; min-height: 13.0px}\n</style>\n<div class="p1"><strong><span style="font-size:14px\;">Panel Discussion on Restaurant Management Presented by SCORE: How to control your costs\, manage your cash flow\, optimize your brand\, and improve your bottom line. Open to existing restaurateurs and individuals looking to open a restaurant.</span></strong><br />\n&nbsp\;</div>\n\n<div class="p1"><span style="font-size:14px\;">Our three&nbsp\;panelists include a former Wilmington restaurateur for 16 years who owned and operated two&nbsp\;locations in town\, with expertise in financial record keeping\, inventory reporting\, and professional catering\; a US Foods business development manager\; and a national restaurant chain management specialist\, with expertise across all aspects of the restaurant business.</span></div>\n\n<div class="p2">&nbsp\;</div>\n
LOCATION:Wilmington Chamber of Commerce
UID:e.2869.425
SEQUENCE:3
DTSTAMP:20260422T050509Z
URL:https://www.wilmingtonchamber.org/events/details/free-seminar-on-restaurant-management-425
END:VEVENT

END:VCALENDAR
