BEGIN:VCALENDAR
VERSION:2.0
PRODID:-//ChamberMaster//Event Calendar 2.0//EN
METHOD:PUBLISH
X-PUBLISHED-TTL:P3D
REFRESH-INTERVAL:P3D
CALSCALE:GREGORIAN
BEGIN:VEVENT
DTSTART:20211014T200000Z
DTEND:20211014T210000Z
X-MICROSOFT-CDO-ALLDAYEVENT:FALSE
SUMMARY:Member Orientation
DESCRIPTION:This is a great opportunity to learn more about the Chamber\, discover ways you can engage\, and meet the Chamber staff and other new Chamber members.\n\n\n\nThe Wilmington Chamber of Commerce is located at 1 Estell Lee Place\, Wilmington\, NC 28401. Our guests are welcome to park in our parking lot or at the Wilmington Convention Center parking deck. If you must park in the deck\, please let a chamber staffer know so we can provide you with a complimentary parking voucher. Our building's main entrance faces the Cape Fear River and is accessed by passing through the gate to our building's left.
X-ALT-DESC;FMTTYPE=text/html:<span style="color: rgb(51\, 51\, 51)\; font-size: 13px\; font-family: arial\;"><span style="font-size: 16px\;">This is a great opportunity to learn more about the Chamber\, discover ways you can engage\, and meet the Chamber staff and other new Chamber members.<br />\n<br />\nThe Wilmington Chamber of Commerce is located at 1 Estell Lee Place\, Wilmington\, NC 28401. Our guests are welcome to park in our parking&nbsp\;lot or at the Wilmington Convention Center parking&nbsp\;deck. If you must park in the deck\, please let a chamber staffer know so we can provide you with a complimentary parking&nbsp\;voucher. Our building&rsquo\;s main entrance faces the Cape Fear River and is accessed by passing through the gate to our building&#39\;s left.&nbsp\;</span></span>
LOCATION:
UID:e.2869.1645
SEQUENCE:3
DTSTAMP:20260422T054651Z
URL:https://www.wilmingtonchamber.org/events/details/member-orientation-1645
END:VEVENT

END:VCALENDAR
