BEGIN:VCALENDAR
VERSION:2.0
PRODID:-//ChamberMaster//Event Calendar 2.0//EN
METHOD:PUBLISH
X-PUBLISHED-TTL:P3D
REFRESH-INTERVAL:P3D
CALSCALE:GREGORIAN
BEGIN:VEVENT
DTSTART:20210407T200000Z
DTEND:20210407T210000Z
X-MICROSOFT-CDO-ALLDAYEVENT:FALSE
SUMMARY:Membership Development Committee Meeting
DESCRIPTION:The purpose of this committee is to increase Chamber membership\, membership engagement\, and retention of current membership. The Member Development Committee is currently led by Board Member\, Stephanie Lanier. This committee is a great place for companies to develop their people through volunteerism.
X-ALT-DESC;FMTTYPE=text/html:<span style="font-size:14px\;"><span style="color:black\;"><span style="font-family:arial\,sans-serif\;">The purpose of this committee is to increase Chamber membership\, membership engagement\, and retention of current membership. The Member Development Committee is currently led by Board Member\, </span></span></span><span style="color: rgb(0\, 0\, 0)\; font-family: arial\, sans-serif\; font-size: 14px\;">Stephanie Lanier.</span><span style="font-size:14px\;"><span style="color:black\;"><span style="font-family:arial\,sans-serif\;"> This committee is a great place for companies to develop their people through volunteerism.</span></span></span>
LOCATION:Zoom: The link will be emailed to you the day before the event and the day of. Please check your Junk/SPAM folder.
UID:e.2869.1423
SEQUENCE:3
DTSTAMP:20260422T125004Z
URL:https://www.wilmingtonchamber.org/events/details/membership-development-committee-meeting-04-07-2021-1423
END:VEVENT

END:VCALENDAR
