BEGIN:VCALENDAR
VERSION:2.0
PRODID:-//ChamberMaster//Event Calendar 2.0//EN
METHOD:PUBLISH
X-PUBLISHED-TTL:P3D
REFRESH-INTERVAL:P3D
CALSCALE:GREGORIAN
BEGIN:VEVENT
DTSTART:20191022T123000Z
DTEND:20191022T134500Z
X-MICROSOFT-CDO-ALLDAYEVENT:FALSE
SUMMARY:Public Policy Meeting
DESCRIPTION:All Chamber members are welcome to attend the meeting.
X-ALT-DESC;FMTTYPE=text/html:All Chamber members are welcome to attend the meeting.&nbsp\;
LOCATION:Wilmington Chamber of Commerce
UID:e.2869.432
SEQUENCE:3
DTSTAMP:20260425T211719Z
URL:https://www.wilmingtonchamber.org/events/details/public-policy-meeting-10-22-2019-432
END:VEVENT

END:VCALENDAR
