BEGIN:VCALENDAR
VERSION:2.0
PRODID:-//ChamberMaster//Event Calendar 2.0//EN
METHOD:PUBLISH
X-PUBLISHED-TTL:P3D
REFRESH-INTERVAL:P3D
CALSCALE:GREGORIAN
BEGIN:VEVENT
DTSTART:20221025T120000Z
DTEND:20221025T131500Z
X-MICROSOFT-CDO-ALLDAYEVENT:FALSE
SUMMARY:Public Policy Meeting
DESCRIPTION:The Wilmington Chamber's Public Policy Committee monitors and advises the Chamber on legislative and regulatory issues at the local\, state\, and federal levels and promotes the interests of our membership. \n\n \n\nOur next Public Policy meeting on Tuesday\, October 25\, from 8:00   9:15 am at the chamber office downtown or via Zoom.\n\n \n\nHousing affordability is important to ensure the businesses in our community have access to the workforce they need.  It is critical that our local governments partner with the private and not-for-profit sectors to address the need for workforce housing in our community. One of the goals of the New Hanover County Strategic Plan for 2018-2023 is to encourage the development of complete communities in the unincorporated county by increasing housing diversity in size and price points and access to basic goods and services.  New Hanover County is implementing initiatives\, and funding\, as they lead the response to this community need.\n\n\n\nOn October 25\, key representatives from New Hanover County will be sharing an update on Workforce Housing initiatives underway\, including an update on the recent round of funding for the Workforce Housing Services Program.\n\n \n\nPresenters:\n\nTheo McClammy\n\nHousing Program Manager\n\nNew Hanover County\n\n \n\nRachel LaCoe\n\nSenior Long Range Planner | Comprehensive Planning\, Long Range Projects\, Education/Outreach\n\nNew Hanover County\n\n\n\nThe Wilmington Chamber of Commerce office is located at 1 Estell Lee Place\, Wilmington\, NC 28401. Our guests can park in our parking lot or at the Wilmington Convention Center parking deck. Our main entrance faces the Cape Fear River and is accessed by passing through the gate to our building's left.\n\n \n\nVirtual attendees will be expected to keep their cameras on during the meeting. Participants who turn cameras off will be removed.\n\n\n\nAll Chamber members are welcome to attend these meetings. There is no cost to attend. These meetings are not open to nonmembers.
X-ALT-DESC;FMTTYPE=text/html:<br />\n<span style="font-family:tahoma\;"><span style="font-size:16px\;"><span style="background-image:initial\;background-position:initial\;background-size:initial\;background-repeat:initial\;background-attachment:initial\;background-origin:initial\;background-clip:initial\;">The Wilmington Chamber&#39\;s Public Policy Committee monitors and advises the Chamber on legislative and regulatory issues at the local\, state\, and federal levels and promotes the interests of our membership.&nbsp\;<br style="box-sizing:border-box\;" />\n&nbsp\;<br style="box-sizing:border-box\;" />\nOur next Public Policy meeting on Tuesday\, October 25\, from 8:00 &ndash\; 9:15 am at the chamber office downtown or via Zoom.</span><br />\n&nbsp\;<br />\nHousing affordability is important to ensure the businesses in our community have access to the workforce they need.&nbsp\; It is critical that our local governments partner with the private and not-for-profit sectors to address the need for workforce housing in our community.&nbsp\;One of the goals of the New Hanover County Strategic Plan for 2018-2023 is to encourage the development of complete communities in the unincorporated county by increasing housing diversity in size and price points and access to basic goods and services.&nbsp\;&nbsp\;New Hanover County is implementing initiatives\, and funding\, as they lead the response to this community need.<br />\n<br />\nOn October 25\, key representatives from New Hanover County will be sharing an update on Workforce Housing initiatives underway\, including an update on the recent round of funding for the <span style="color:#0070c0\;"><a href="https://news.nhcgov.com/news-releases/2022/07/proposal-process-open-for-workforce-and-affordable-housing-funding/" style="color:blue\;"><span style="color:#0070c0\;">Workforce Housing Services Program</span></a>.</span><br />\n&nbsp\;<br />\n<u>Presenters:</u><br />\nTheo McClammy<br />\nHousing Program Manager<br />\nNew Hanover County<br />\n&nbsp\;<br />\nRachel LaCoe<br />\nSenior Long Range Planner | Comprehensive Planning\, Long Range Projects\, Education/Outreach<br />\nNew Hanover County<br />\n<br />\n<span style="background-image:initial\;background-position:initial\;background-size:initial\;background-repeat:initial\;background-attachment:initial\;background-origin:initial\;background-clip:initial\;">The Wilmington Chamber of Commerce office is located at 1 Estell Lee Place\, Wilmington\, NC 28401. Our guests can park in our parking lot or at the Wilmington Convention Center parking deck. Our main entrance faces the Cape Fear River and is accessed by passing through the gate to our building&#39\;s left.<br style="box-sizing:border-box\;" />\n&nbsp\;</span><br style="box-sizing:border-box\;" />\n<strong style="box-sizing:border-box\;"><span style="box-sizing:border-box\;"><span style="background-image:initial\;background-position:initial\;background-size:initial\;background-repeat:initial\;background-attachment:initial\;background-origin:initial\;background-clip:initial\;">Virtual attendees will be expected to keep their cameras on during the meeting. Participants who turn cameras off will be removed.</span></span></strong><br style="box-sizing:border-box\;" />\n<br style="box-sizing:border-box\;" />\n<span style="background-image:initial\;background-position:initial\;background-size:initial\;background-repeat:initial\;background-attachment:initial\;background-origin:initial\;background-clip:initial\;"><span style="box-sizing:border-box\;">All Chamber members are welcome to attend these meetings. There is no cost to attend. These meetings are not open to nonmembers.</span></span></span></span>
LOCATION:Wilmington Chamber of Commerce
UID:e.2869.468
SEQUENCE:3
DTSTAMP:20260421T105941Z
URL:https://www.wilmingtonchamber.org/events/details/public-policy-meeting-10-25-2022-468
END:VEVENT

END:VCALENDAR
