BEGIN:VCALENDAR
VERSION:2.0
PRODID:-//ChamberMaster//Event Calendar 2.0//EN
METHOD:PUBLISH
X-PUBLISHED-TTL:P3D
REFRESH-INTERVAL:P3D
CALSCALE:GREGORIAN
BEGIN:VEVENT
DTSTART:20211211T220000Z
DTEND:20211212T010000Z
X-MICROSOFT-CDO-ALLDAYEVENT:FALSE
SUMMARY:The WELL Place\, Inc.\, Silent Auction
DESCRIPTION:Get your tickets today to The Women Encouragement Living and Learning Place\, Inc. (The WELL Place)\, first annual Silent Auction that will be held on December 11\, 2021 from 5 pm to 8 pm. Have fun browsing and bidding on our fabulous auction items\, while enjoying good music\, wine\, beer\, and hors d'oeuvre. Proceeds will be used to support THE WELL Place women and teen-girls support programs. You can see the auction items and learn more about The WELL Place on our website at https://www.thewellplaceilm.org/ Ticket are on sale on Eventbrite\, at https://www.eventbrite.com/e/195531318437
X-ALT-DESC;FMTTYPE=text/html:<p><span style="font-family:arial\,helvetica\,sans-serif"><span style="font-size:15px"><span style="font-size:16px">Get your tickets today to</span> T</span><span style="font-size:16px">he Women Encouragement Living and Learning Place\, Inc. (The WELL Place)\, first annual Silent Auction that will be held on December 11\, 2021 from 5 pm to 8 pm. Have fun browsing and bidding on our fabulous auction items\, while enjoying good music\, wine\, beer\, and hors d&#39\;oeuvre. Proceeds will be used to support THE WELL Place women and teen-girls support programs. You can see the auction items and learn more about The WELL Place on our website at <a href="http://www.thewellplaceilm.org">https://www.thewellplaceilm.org/</a>&nbsp\;</span><span style="font-size:15px">Ticket are on sale on Eventbrite\, at </span><span style="font-size:15px"><a class="oajrlxb2 g5ia77u1 qu0x051f esr5mh6w e9989ue4 r7d6kgcz rq0escxv nhd2j8a9 nc684nl6 p7hjln8o kvgmc6g5 cxmmr5t8 oygrvhab hcukyx3x jb3vyjys rz4wbd8a qt6c0cv9 a8nywdso i1ao9s8h esuyzwwr f1sip0of lzcic4wl py34i1dx gpro0wi8" href="https://www.eventbrite.com/e/195531318437" rel="nofollow noopener" style="color: var(--blue-link)\; cursor: pointer\; text-decoration-line: none\; outline: none\; list-style: none\; border-width: 0px\; border-style: initial\; border-color: initial\; padding: 0px\; margin: 0px\; touch-action: manipulation\; background-color: transparent\; text-align: inherit\; display: inline\; -webkit-tap-highlight-color: transparent\; box-sizing: border-box\; font-family: inherit\;" tabindex="0" target="_blank">https://www.eventbrite.com/e/195531318437</a></span></span><span style="color:rgb(5\, 5\, 5)\; font-family:segoe ui historic\,segoe ui\,helvetica\,arial\,sans-serif\; font-size:15px"> </span></p>\n
LOCATION:The Silent Auction will be held at 1308 S 16th Street\, Wilmington\, NC 28401
UID:e.2869.1678
SEQUENCE:3
DTSTAMP:20260420T203204Z
URL:https://www.wilmingtonchamber.org/events/details/the-well-place-inc-silent-auction-1678
END:VEVENT

END:VCALENDAR
