BEGIN:VCALENDAR
VERSION:2.0
PRODID:-//ChamberMaster//Event Calendar 2.0//EN
METHOD:PUBLISH
X-PUBLISHED-TTL:P3D
REFRESH-INTERVAL:P3D
CALSCALE:GREGORIAN
BEGIN:VEVENT
DTSTART:20230404T120000Z
DTEND:20230404T131500Z
X-MICROSOFT-CDO-ALLDAYEVENT:FALSE
SUMMARY:Wake Up Wilmington Sponsored by Code Ninjas Wilmington
DESCRIPTION:EVENT DESCRIPTION\n\n \n\nWake up Wilmington is a monthly referral networking event designed to help you build relationships\, support your professional development\, and develop leads for your business. This is a member benefit and has no additional cost to attend. This event is not open to nonmembers. Coffee will be provided. \n\n \n\nWHAT TO EXPECT\n\n \n\nWhen the event begins\, you'll have a minute to share your name\, your business\, how you service clients\, and any immediate needs you have for your business.\n\n \n\nYou'll hear updates on chamber news and listen to a short presentation from our sponsor.\n\n \n\nAt the end of our event\, attendees will have an opportunity to share any Leads that will help each other service the current needs of your businesses. \n\n \n\nWHAT TO BRING\n\n\n	30 - 50 business cards\n	A pen\n\n\nAPRIL SPONSOR INFORMATION\n\n\n\nCode Ninjas  is the world's largest and fastest-growing kids coding franchise\, with hundreds of locations in the United States\, Canada\, and the United Kingdom.\n\nKids learn to code while building their own video games. They gain problem solving\, critical thinking\, and STEM skills in a fun\, safe\, and inspiring environment.\n\nFive unique programs are offered including a variety of STEM camps. For example\, Modding with Minecraft\, Intro to Roblox Development\, 3D Design & Print\, Stop Motion Animation\, Intro to Web Development\, and more. Owner Zo  Mathews is sponsoring this month's Wake Up Wilmington to generate awareness of this new community enrichment program for kids. She will provide answers to the FAQs she's gathered since opening in August 2021 as well as show video descriptions of each of the 14 STEM camps offered this Spring and Summer 2023.
X-ALT-DESC;FMTTYPE=text/html:<p style="box-sizing: border-box\; margin-top: 0px\; margin-bottom: 1rem\; font-family: &quot\;Fira Sans&quot\;\, sans-serif\; font-size: 16px\;"><br style="box-sizing: border-box\;" />\n<span style="box-sizing: border-box\; color: rgb(0\, 0\, 0)\;"><span style="box-sizing: border-box\;"><span style="box-sizing: border-box\; font-family: arial\;"><span style="box-sizing: border-box\; font-weight: bolder\;"><span style="box-sizing: border-box\; background-image: initial\; background-position: initial\; background-size: initial\; background-repeat: initial\; background-attachment: initial\; background-origin: initial\; background-clip: initial\;"><span style="box-sizing: border-box\;">EVENT DESCRIPTION</span></span></span><br style="box-sizing: border-box\;" />\n&nbsp\;<br style="box-sizing: border-box\;" />\n<span style="box-sizing: border-box\; background-image: initial\; background-position: initial\; background-size: initial\; background-repeat: initial\; background-attachment: initial\; background-origin: initial\; background-clip: initial\;"><span style="box-sizing: border-box\;">Wake up Wilmington&nbsp\;is a monthly referral networking event designed to help you build relationships\, support your professional development\, and develop leads for your business. This is a member benefit and has no additional cost to attend. This event is not open to nonmembers. Coffee will be provided.&nbsp\;</span></span><br style="box-sizing: border-box\;" />\n&nbsp\;<br style="box-sizing: border-box\;" />\n<span style="box-sizing: border-box\; font-weight: bolder\;"><span style="box-sizing: border-box\; background-image: initial\; background-position: initial\; background-size: initial\; background-repeat: initial\; background-attachment: initial\; background-origin: initial\; background-clip: initial\;"><span style="box-sizing: border-box\;">WHAT TO EXPECT</span></span></span><br style="box-sizing: border-box\;" />\n&nbsp\;<br style="box-sizing: border-box\;" />\n<span style="box-sizing: border-box\; background-image: initial\; background-position: initial\; background-size: initial\; background-repeat: initial\; background-attachment: initial\; background-origin: initial\; background-clip: initial\;"><span style="box-sizing: border-box\;">When the event begins\, you&#39\;ll have a minute to share your name\, your business\, how you service clients\, and any immediate needs you have for your business.</span></span><br style="box-sizing: border-box\;" />\n&nbsp\;<br style="box-sizing: border-box\;" />\n<span style="box-sizing: border-box\; background-image: initial\; background-position: initial\; background-size: initial\; background-repeat: initial\; background-attachment: initial\; background-origin: initial\; background-clip: initial\;"><span style="box-sizing: border-box\;">You&#39\;ll hear updates on chamber news and listen to a short presentation from our sponsor.</span></span><br style="box-sizing: border-box\;" />\n&nbsp\;<br style="box-sizing: border-box\;" />\n<span style="box-sizing: border-box\; background-image: initial\; background-position: initial\; background-size: initial\; background-repeat: initial\; background-attachment: initial\; background-origin: initial\; background-clip: initial\;"><span style="box-sizing: border-box\;">At the end of our event\, attendees will have an opportunity to share any Leads that will help each other service the current needs of your businesses.&nbsp\;</span></span><br style="box-sizing: border-box\;" />\n&nbsp\;<br style="box-sizing: border-box\;" />\n<span style="box-sizing: border-box\; font-weight: bolder\;"><span style="box-sizing: border-box\; background-image: initial\; background-position: initial\; background-size: initial\; background-repeat: initial\; background-attachment: initial\; background-origin: initial\; background-clip: initial\;"><span style="box-sizing: border-box\;">WHAT TO BRING</span></span></span></span></span></span></p>\n\n<ul style="box-sizing: border-box\; margin-top: 0px\; margin-bottom: 1rem\; font-family: &quot\;Fira Sans&quot\;\, sans-serif\; font-size: 16px\;">\n	<li style="box-sizing: border-box\; margin: 0px\;"><span style="box-sizing: border-box\; color: rgb(0\, 0\, 0)\;"><span style="box-sizing: border-box\;"><span style="box-sizing: border-box\; font-family: arial\;">30 -&nbsp\;50 business cards</span></span></span></li>\n	<li style="box-sizing: border-box\; margin: 0px\;"><span style="box-sizing: border-box\; color: rgb(0\, 0\, 0)\;"><span style="box-sizing: border-box\;"><span style="box-sizing: border-box\; font-family: arial\;">A pen</span></span></span></li>\n</ul>\n\n<div style="box-sizing: border-box\; margin: 0px\;"><span style="box-sizing: border-box\; font-weight: bolder\; font-family: arial\; font-size: 16px\;">APRIL&nbsp\;SPONSOR INFORMATION</span><br style="box-sizing: border-box\; font-family: arial\; font-size: 16px\;" />\n<br style="box-sizing: border-box\; font-family: arial\; font-size: 16px\;" />\n<span style="box-sizing: border-box\; font-family: arial\; font-size: 16px\; background-image: initial\; background-position: initial\; background-size: initial\; background-repeat: initial\; background-attachment: initial\; background-origin: initial\; background-clip: initial\;"><span style="box-sizing: border-box\; color: black\;">Code Ninjas&reg\; is the world&rsquo\;s largest and fastest-growing kids coding franchise\, with hundreds of locations in the United States\, Canada\, and the United Kingdom.</span></span><br style="box-sizing: border-box\; font-family: arial\; font-size: 16px\;" />\n<span style="box-sizing: border-box\; font-family: arial\; font-size: 16px\; background-image: initial\; background-position: initial\; background-size: initial\; background-repeat: initial\; background-attachment: initial\; background-origin: initial\; background-clip: initial\;"><span style="box-sizing: border-box\; color: black\;">Kids learn to code while building their own video games. They gain problem solving\, critical thinking\, and STEM skills in a fun\, safe\, and inspiring environment.</span></span><br style="box-sizing: border-box\; font-family: arial\; font-size: 16px\;" />\n<span style="box-sizing: border-box\; font-family: arial\; font-size: 16px\; background-image: initial\; background-position: initial\; background-size: initial\; background-repeat: initial\; background-attachment: initial\; background-origin: initial\; background-clip: initial\;"><span style="box-sizing: border-box\; color: black\;">Five unique programs are offered including a variety of STEM camps. For example\, Modding with Minecraft\, Intro to Roblox Development\, 3D Design &amp\; Print\, Stop Motion Animation\, Intro to Web Development\, and more. Owner Zo&euml\; Mathews is sponsoring this month&#39\;s Wake Up Wilmington&nbsp\;to generate awareness of this new community enrichment program for kids. She will provide answers to the FAQs she&#39\;s gathered since opening in August 2021 as well as show video descriptions of each of the 14 STEM camps offered this Spring and Summer 2023.</span></span></div>\n
LOCATION:Wilmington Chamber of Commerce
UID:e.2869.2377
SEQUENCE:3
DTSTAMP:20260420T083434Z
URL:https://www.wilmingtonchamber.org/events/details/wake-up-wilmington-sponsored-by-code-ninjas-wilmington-2377
END:VEVENT

END:VCALENDAR
