BEGIN:VCALENDAR
VERSION:2.0
PRODID:-//ChamberMaster//Event Calendar 2.0//EN
METHOD:PUBLISH
X-PUBLISHED-TTL:P3D
REFRESH-INTERVAL:P3D
CALSCALE:GREGORIAN
BEGIN:VEVENT
DTSTART:20230110T130000Z
DTEND:20230110T141500Z
X-MICROSOFT-CDO-ALLDAYEVENT:FALSE
SUMMARY:Wake Up Wilmington Sponsored by Golden Age Leadership
DESCRIPTION:EVENT DESCRIPTION\n\n \n\nWake up Wilmington is a monthly referral networking event designed to help you build relationships\, support your professional development\, and develop leads for your business. This is a member benefit and has no additional cost to attend. This event is not open to nonmembers. Coffee will be provided. \n\n \n\nWHAT TO EXPECT\n\n \n\nWhen the event begins\, you'll have a minute to share your name\, your business\, how you service clients\, and any immediate needs you have for your business.\n\n \n\nYou'll hear updates on chamber news and listen to a short presentation from our sponsor.\n\n \n\nAt the end of our event\, attendees will have an opportunity to share any Leads that will help each other service the current needs of your businesses. \n\n \n\nWHAT TO BRING\n\n\n	30 - 50 business cards\n	A pen\n\n\n\n\nGolden Age Leadership\n\n\nMolly founded Golden Age Leadership in 2016 in Wilmington\, NC while also serving as the HR Director of Employee Leadership\, Learning and Engagement at UNC Wilmington. During the most difficult of ages\, she believes gold can always be found if we make the time to define what we want the gold to be. Gold doesn't always come as dollars and it doesn't always make sense\, but improved team communication\, increased job satisfaction\, and confidence in your leadership approach can equate just that  PURE GOLD! \n\nFor the past 20 years\, Molly has made an impact facilitating leadership\, learning & engagement programs and coaching leaders\, professionals\, and teams in the following industries:\n\n\n\n\n	\n	Education\n	\n	\n	Entrepreneurs\n	\n\n\n\n\n\n	\n	Engineering\n	\n	\n	Faith-Based\n	\n\n\n\n\n\n	\n	Government\n	\n	\n	Manufacturing\n	\n\n\n\n\n\n	\n	Medical/Dental\n	\n	\n	Non-Profits
X-ALT-DESC;FMTTYPE=text/html:<p fira="" font-size:="" style="box-sizing: border-box\; margin-top: 0px\; margin-bottom: 1rem\; font-family: "><br style="box-sizing: border-box\;" />\n<span style="font-family:arial\;"><span style="box-sizing: border-box\; color: rgb(0\, 0\, 0)\;"><span style="box-sizing: border-box\;"><span style="box-sizing: border-box\;"><span style="box-sizing: border-box\; font-weight: bolder\;"><span style="box-sizing: border-box\; background-image: initial\; background-position: initial\; background-size: initial\; background-repeat: initial\; background-attachment: initial\; background-origin: initial\; background-clip: initial\;"><span style="box-sizing: border-box\;">EVENT DESCRIPTION</span></span></span><br style="box-sizing: border-box\;" />\n&nbsp\;<br style="box-sizing: border-box\;" />\n<span style="box-sizing: border-box\; background-image: initial\; background-position: initial\; background-size: initial\; background-repeat: initial\; background-attachment: initial\; background-origin: initial\; background-clip: initial\;"><span style="box-sizing: border-box\;">Wake up Wilmington&nbsp\;is a monthly referral networking event designed to help you build relationships\, support your professional development\, and develop leads for your business. This is a member benefit and has no additional cost to attend. This event is not open to nonmembers. Coffee will be provided.&nbsp\;</span></span><br style="box-sizing: border-box\;" />\n&nbsp\;<br style="box-sizing: border-box\;" />\n<span style="box-sizing: border-box\; font-weight: bolder\;"><span style="box-sizing: border-box\; background-image: initial\; background-position: initial\; background-size: initial\; background-repeat: initial\; background-attachment: initial\; background-origin: initial\; background-clip: initial\;"><span style="box-sizing: border-box\;">WHAT TO EXPECT</span></span></span><br style="box-sizing: border-box\;" />\n&nbsp\;<br style="box-sizing: border-box\;" />\n<span style="box-sizing: border-box\; background-image: initial\; background-position: initial\; background-size: initial\; background-repeat: initial\; background-attachment: initial\; background-origin: initial\; background-clip: initial\;"><span style="box-sizing: border-box\;">When the event begins\, you&#39\;ll have a minute to share your name\, your business\, how you service clients\, and any immediate needs you have for your business.</span></span><br style="box-sizing: border-box\;" />\n&nbsp\;<br style="box-sizing: border-box\;" />\n<span style="box-sizing: border-box\; background-image: initial\; background-position: initial\; background-size: initial\; background-repeat: initial\; background-attachment: initial\; background-origin: initial\; background-clip: initial\;"><span style="box-sizing: border-box\;">You&#39\;ll hear updates on chamber news and listen to a short presentation from our sponsor.</span></span><br style="box-sizing: border-box\;" />\n&nbsp\;<br style="box-sizing: border-box\;" />\n<span style="box-sizing: border-box\; background-image: initial\; background-position: initial\; background-size: initial\; background-repeat: initial\; background-attachment: initial\; background-origin: initial\; background-clip: initial\;"><span style="box-sizing: border-box\;">At the end of our event\, attendees will have an opportunity to share any Leads that will help each other service the current needs of your businesses.&nbsp\;</span></span><br style="box-sizing: border-box\;" />\n&nbsp\;<br style="box-sizing: border-box\;" />\n<span style="box-sizing: border-box\; font-weight: bolder\;"><span style="box-sizing: border-box\; background-image: initial\; background-position: initial\; background-size: initial\; background-repeat: initial\; background-attachment: initial\; background-origin: initial\; background-clip: initial\;"><span style="box-sizing: border-box\;">WHAT TO BRING</span></span></span></span></span></span></span></p>\n\n<ul fira="" font-size:="" style="box-sizing: border-box\; margin-top: 0px\; margin-bottom: 1rem\; font-family: ">\n	<li style="box-sizing: border-box\; margin: 0px\;"><span style="font-family:arial\;"><span style="box-sizing: border-box\; color: rgb(0\, 0\, 0)\;"><span style="box-sizing: border-box\;"><span style="box-sizing: border-box\;">30 -&nbsp\;50 business cards</span></span></span></span></li>\n	<li style="box-sizing: border-box\; margin: 0px\;"><span style="font-family:arial\;"><span style="box-sizing: border-box\; color: rgb(0\, 0\, 0)\;"><span style="box-sizing: border-box\;"><span style="box-sizing: border-box\;">A pen</span></span></span></span></li>\n</ul>\n\n<div style="box-sizing: border-box\; margin: 0px\;"><br />\n<span style="font-family:arial\;"><u><a href="https://www.goldenageleadership.com/"><span style="color:#000000\;"><strong><span style="box-sizing: border-box\;"><span style="box-sizing: border-box\;"><span style="box-sizing: border-box\;">Golden Age Leadership</span></span></span></strong></span></a></u></span>\n\n<div data-repeater-items-indexes="" data-scope="" data-testid="richTextElement" id="comp-ksxdebdo">\n<p><span style="color:#000000\;"><span style="font-family:arial\;">Molly founded Golden Age Leadership in 2016 in Wilmington\, NC while also serving as the HR Director of Employee Leadership\, Learning and Engagement at UNC Wilmington. During the most difficult of ages\, she believes gold can always be found if we make the time to define what we want the gold to be. Gold doesn&rsquo\;t always come as dollars and it doesn&rsquo\;t always make sense\, but improved team communication\, increased job satisfaction\, and confidence in your leadership approach can equate just that&hellip\; PURE GOLD!&#8203\;</span></span></p>\n\n<p><span style="color:#000000\;"><span style="font-family:arial\;">For the past 20 years\, Molly has made an impact facilitating leadership\, learning &amp\; engagement programs and coaching leaders\, professionals\, and teams in the following industries:</span></span></p>\n</div>\n\n<div data-repeater-items-indexes="" data-scope="" data-testid="richTextElement" id="comp-ksxdadhx">\n<ul>\n	<li>\n	<p><span style="color:#000000\;"><span style="font-family:arial\;">Education</span></span></p>\n	</li>\n	<li>\n	<p><span style="color:#000000\;"><span style="font-family:arial\;">Entrepreneurs</span></span></p>\n	</li>\n</ul>\n</div>\n\n<div data-repeater-items-indexes="" data-scope="" data-testid="richTextElement" id="comp-ksxdd82u">\n<ul>\n	<li>\n	<p><span style="color:#000000\;"><span style="font-family:arial\;">Engineering</span></span></p>\n	</li>\n	<li>\n	<p><span style="color:#000000\;"><span style="font-family:arial\;">Faith-Based</span></span></p>\n	</li>\n</ul>\n</div>\n\n<div data-repeater-items-indexes="" data-scope="" data-testid="richTextElement" id="comp-ksxdadi6">\n<ul>\n	<li>\n	<p><span style="color:#000000\;"><span style="font-family:arial\;">Government</span></span></p>\n	</li>\n	<li>\n	<p><span style="color:#000000\;"><span style="font-family:arial\;">Manufacturing</span></span></p>\n	</li>\n</ul>\n</div>\n\n<div data-repeater-items-indexes="" data-scope="" data-testid="richTextElement" id="comp-ksxddj7k">\n<ul>\n	<li>\n	<p><span style="color:#000000\;"><span style="font-family:arial\;">Medical/Dental</span></span></p>\n	</li>\n	<li>\n	<p><span style="color:#000000\;"><span style="font-family:arial\;">Non-Profits</span></span></p>\n	</li>\n</ul>\n</div>\n</div>\n
LOCATION:Wilmington Chamber of Commerce
UID:e.2869.2362
SEQUENCE:3
DTSTAMP:20260421T053924Z
URL:https://www.wilmingtonchamber.org/events/details/wake-up-wilmington-sponsored-by-golden-age-leadership-2362
END:VEVENT

END:VCALENDAR
