BEGIN:VCALENDAR
VERSION:2.0
PRODID:-//ChamberMaster//Event Calendar 2.0//EN
METHOD:PUBLISH
X-PUBLISHED-TTL:P3D
REFRESH-INTERVAL:P3D
CALSCALE:GREGORIAN
BEGIN:VEVENT
DTSTART:20210720T160000Z
DTEND:20210720T161500Z
X-MICROSOFT-CDO-ALLDAYEVENT:FALSE
SUMMARY:Weekly Market Wrap
DESCRIPTION:Tune in tomorrow at Noon Eastern Time for my Weekly Market Update\, where we review current market conditions and upcoming expectations.\n\nEmail Nina.White@edwardjones.com for the Zoom link to join.  No RSVP or registration is required to attend.  As always family and friends are welcome to join.\n\nThis is a recurring event\, so if you can't join me\, keep the link and catch it next Tuesday at noon.
X-ALT-DESC;FMTTYPE=text/html:Tune in tomorrow at Noon Eastern Time for my Weekly Market Update\, where we review current market conditions and upcoming expectations.<br />\nEmail <a href="mailto:Nina.White@edwardjones.com">Nina.White@edwardjones.com</a> for the Zoom link to join.&nbsp\; No RSVP or registration is required to attend.&nbsp\; As always family and friends are welcome to join.<br />\nThis is a recurring event\, so if you can&#39\;t join me\, keep the link and catch it next Tuesday at noon.<br />\n&nbsp\;
LOCATION:Virtual
UID:e.2869.1664
SEQUENCE:3
DTSTAMP:20260422T094304Z
URL:https://www.wilmingtonchamber.org/events/details/weekly-market-wrap-1664
END:VEVENT

END:VCALENDAR
