BEGIN:VCALENDAR
VERSION:2.0
PRODID:-//ChamberMaster//Event Calendar 2.0//EN
METHOD:PUBLISH
X-PUBLISHED-TTL:P3D
REFRESH-INTERVAL:P3D
CALSCALE:GREGORIAN
BEGIN:VEVENT
DTSTART;VALUE=DATE:20210923
DTEND;VALUE=DATE:20210924
TRANSP:TRANSPARENT
X-MICROSOFT-CDO-ALLDAYEVENT:TRUE
SUMMARY:WILMA Dash
DESCRIPTION:The WILMA Dash is Wilmington\, North Carolina's ONLY All-Female 5K!\n\n\n\nThe race is presented by WILMA Magazine and brings more than 1\,000 women to downtown Wilmington.\n\n\n\nIt is a great event for first-time runners\, walkers\, and for seasoned runners looking for a personal best.  After your race\, stay for the Health Fest\, food\, and drinks.\n\n\n\nRegister or donate here: https://runsignup.com/Race/NC/Wilmington/WILMADash
X-ALT-DESC;FMTTYPE=text/html:The WILMA Dash is Wilmington\, North Carolina&rsquo\;s ONLY All-Female 5K!<br />\n<br />\nThe race is presented by WILMA Magazine and brings more than 1\,000 women to downtown Wilmington.<br />\n<br />\nIt is a great event for first-time runners\, walkers\, and for seasoned runners looking for a personal best.&nbsp\; After your race\, stay for the Health Fest\, food\, and drinks.<br />\n<br />\n<span style="font-size:16px\;"><strong>Register or donate here:&nbsp\;<a href="https://runsignup.com/Race/NC/Wilmington/WILMADash">https://runsignup.com/Race/NC/Wilmington/WILMADash</a></strong></span>
LOCATION:Waterfront Park in downtown Wilmington
UID:e.2869.1633
SEQUENCE:3
DTSTAMP:20260419T164957Z
URL:https://www.wilmingtonchamber.org/events/details/wilma-dash-1633
END:VEVENT

END:VCALENDAR
